BEGIN:VCALENDAR
VERSION:2.0
PRODID:-//Sorties à Nantes - ECPv6.15.20//NONSGML v1.0//EN
CALSCALE:GREGORIAN
METHOD:PUBLISH
X-ORIGINAL-URL:https://sortiesanantes.fr
X-WR-CALDESC:Évènements pour Sorties à Nantes
REFRESH-INTERVAL;VALUE=DURATION:PT1H
X-Robots-Tag:noindex
X-PUBLISHED-TTL:PT1H
BEGIN:VTIMEZONE
TZID:Europe/Paris
BEGIN:DAYLIGHT
TZOFFSETFROM:+0100
TZOFFSETTO:+0200
TZNAME:CEST
DTSTART:20250330T010000
END:DAYLIGHT
BEGIN:STANDARD
TZOFFSETFROM:+0200
TZOFFSETTO:+0100
TZNAME:CET
DTSTART:20251026T010000
END:STANDARD
BEGIN:DAYLIGHT
TZOFFSETFROM:+0100
TZOFFSETTO:+0200
TZNAME:CEST
DTSTART:20260329T010000
END:DAYLIGHT
BEGIN:STANDARD
TZOFFSETFROM:+0200
TZOFFSETTO:+0100
TZNAME:CET
DTSTART:20261025T010000
END:STANDARD
BEGIN:DAYLIGHT
TZOFFSETFROM:+0100
TZOFFSETTO:+0200
TZNAME:CEST
DTSTART:20270328T010000
END:DAYLIGHT
BEGIN:STANDARD
TZOFFSETFROM:+0200
TZOFFSETTO:+0100
TZNAME:CET
DTSTART:20271031T010000
END:STANDARD
END:VTIMEZONE
BEGIN:VEVENT
DTSTART;TZID=Europe/Paris:20260417T210000
DTEND;TZID=Europe/Paris:20260419T153000
DTSTAMP:20260422T111302
CREATED:20260413T112637Z
LAST-MODIFIED:20260417T083330Z
UID:64953-1776459600-1776612600@sortiesanantes.fr
SUMMARY:15 AOÛT SUR PALIER
DESCRIPTION:Présenté par Le Théâtre de Poche Graslin Une comédie torride sur palier ! Marine et Sarah n’ont aucun point commun\, si ce n’est leur homme… et leur palier ! 15 Août\, l’immeuble est désert\, le face à face entre l’écrivaine et la shampouineuse risque d’être chaud. Une histoire de femmes\, une histoire de voisinage\, pleine de rebondissements et de surprises ! Après cette confrontation brûlante sur palier\, il se peut que vous ne voyiez plus vos voisins de la même façon… \nRéservez vite vos places ici 🎟 
URL:https://sortiesanantes.fr/event/15-aout-sur-palier/
LOCATION:Théâtre de Poche Graslin\, 5 rue Lekain\, Nantes
CATEGORIES:THÉÂTRE
ATTACH;FMTTYPE=image/jpeg:https://sortiesanantes.fr/wp-content/uploads/2026/04/affiche-web-15-aout-sur-palier-39f35d93-686x1024-1.jpg
END:VEVENT
END:VCALENDAR