BEGIN:VCALENDAR
VERSION:2.0
PRODID:-//Sorties à Nantes - ECPv6.15.20//NONSGML v1.0//EN
CALSCALE:GREGORIAN
METHOD:PUBLISH
X-WR-CALNAME:Sorties à Nantes
X-ORIGINAL-URL:https://sortiesanantes.fr
X-WR-CALDESC:Évènements pour Sorties à Nantes
REFRESH-INTERVAL;VALUE=DURATION:PT1H
X-Robots-Tag:noindex
X-PUBLISHED-TTL:PT1H
BEGIN:VTIMEZONE
TZID:Europe/Paris
BEGIN:DAYLIGHT
TZOFFSETFROM:+0100
TZOFFSETTO:+0200
TZNAME:CEST
DTSTART:20250330T010000
END:DAYLIGHT
BEGIN:STANDARD
TZOFFSETFROM:+0200
TZOFFSETTO:+0100
TZNAME:CET
DTSTART:20251026T010000
END:STANDARD
BEGIN:DAYLIGHT
TZOFFSETFROM:+0100
TZOFFSETTO:+0200
TZNAME:CEST
DTSTART:20260329T010000
END:DAYLIGHT
BEGIN:STANDARD
TZOFFSETFROM:+0200
TZOFFSETTO:+0100
TZNAME:CET
DTSTART:20261025T010000
END:STANDARD
BEGIN:DAYLIGHT
TZOFFSETFROM:+0100
TZOFFSETTO:+0200
TZNAME:CEST
DTSTART:20270328T010000
END:DAYLIGHT
BEGIN:STANDARD
TZOFFSETFROM:+0200
TZOFFSETTO:+0100
TZNAME:CET
DTSTART:20271031T010000
END:STANDARD
END:VTIMEZONE
BEGIN:VEVENT
DTSTART;TZID=Europe/Paris:20260409T173000
DTEND;TZID=Europe/Paris:20260409T200000
DTSTAMP:20260424T100214
CREATED:20260406T172719Z
LAST-MODIFIED:20260406T172719Z
UID:64683-1775755800-1775764800@sortiesanantes.fr
SUMMARY:ICE SPRING BREAK
DESCRIPTION:Une dernière soirée tous ensemble ! 🩵 \nUne dizaine de jours après notre dernière rencontre au Petit Port\, retrouvons-nous une dernière fois pour célébrer la fin de saison : rendez-vous jeudi 9️⃣ avril pour l’Ice Spring Break\, une soirée sur la glace pour clôturer 2025.26 comme il se doit ! ❄️ \nÀ partir de 17h30\, profitez de matchs d’exhibition\, de mini-jeux sur la glace\, ainsi que d’une braderie avec bar et restauration sur place ! 🍻 \n📅 Jeudi 9 avril 2026\n🏟️ Patinoire du Petit Port\n🕠 À partir de 17h30\n🎟️ Entrée gratuite ! \nÀ jeudi ! 👋\n#IceSpringBreak #PourNantes
URL:https://sortiesanantes.fr/event/ice-spring-break/
LOCATION:Patinoire du Petit Port\, Boulevard du petit port\, Nantes
CATEGORIES:GRATUIT,SPORTS
ATTACH;FMTTYPE=image/jpeg:https://sortiesanantes.fr/wp-content/uploads/2026/04/FB_IMG_1775496288470.jpg
END:VEVENT
END:VCALENDAR