BEGIN:VCALENDAR
VERSION:2.0
PRODID:-//Sorties à Nantes - ECPv6.15.20//NONSGML v1.0//EN
CALSCALE:GREGORIAN
METHOD:PUBLISH
X-WR-CALNAME:Sorties à Nantes
X-ORIGINAL-URL:https://sortiesanantes.fr
X-WR-CALDESC:Évènements pour Sorties à Nantes
REFRESH-INTERVAL;VALUE=DURATION:PT1H
X-Robots-Tag:noindex
X-PUBLISHED-TTL:PT1H
BEGIN:VTIMEZONE
TZID:Europe/Paris
BEGIN:DAYLIGHT
TZOFFSETFROM:+0100
TZOFFSETTO:+0200
TZNAME:CEST
DTSTART:20250330T010000
END:DAYLIGHT
BEGIN:STANDARD
TZOFFSETFROM:+0200
TZOFFSETTO:+0100
TZNAME:CET
DTSTART:20251026T010000
END:STANDARD
BEGIN:DAYLIGHT
TZOFFSETFROM:+0100
TZOFFSETTO:+0200
TZNAME:CEST
DTSTART:20260329T010000
END:DAYLIGHT
BEGIN:STANDARD
TZOFFSETFROM:+0200
TZOFFSETTO:+0100
TZNAME:CET
DTSTART:20261025T010000
END:STANDARD
BEGIN:DAYLIGHT
TZOFFSETFROM:+0100
TZOFFSETTO:+0200
TZNAME:CEST
DTSTART:20270328T010000
END:DAYLIGHT
BEGIN:STANDARD
TZOFFSETFROM:+0200
TZOFFSETTO:+0100
TZNAME:CET
DTSTART:20271031T010000
END:STANDARD
END:VTIMEZONE
BEGIN:VEVENT
DTSTART;TZID=Europe/Paris:20260327T200000
DTEND;TZID=Europe/Paris:20260327T223000
DTSTAMP:20260420T142408
CREATED:20260323T125321Z
LAST-MODIFIED:20260323T125321Z
UID:64148-1774641600-1774650600@sortiesanantes.fr
SUMMARY:HARLEM GLOBETROTTERS
DESCRIPTION:100 ans d’émotions\, de rires et de joie ! Après avoir foulé les parquets des 5 continents\, les Harlem Globetrotters reprennent la route pour célébrer leurs 100 ans ! L’occasion de vivre un moment familial et de voir les stars du basket-ball réaliser des dunks défiant la gravité et figures changeant le cours du match\, les fans pourront ressentir l’histoire\, la joie et le plaisir que seuls les Globetrotters peuvent offrir. Pour la première fois\, l’équipe dévoilera également ses nouveaux maillots « 100 Year »\, rendant hommage à un siècle d’influence mondiale\, alors qu’elle affrontera ses rivaux de longue date\, les Washington Generals. Ne manquez pas les Harlem Globetrotters les 28 et 29 mars 2026 à l’Accor Arena et dans toute la France ! \nRéservez vite vos places ici 🎟 
URL:https://sortiesanantes.fr/event/harlem-globetrotters/
LOCATION:Palais des sports Beaulieu\, Rue René Viviani\, Nantes
CATEGORIES:SPECTACLES,SPORTS
ATTACH;FMTTYPE=image/jpeg:https://sortiesanantes.fr/wp-content/uploads/2026/03/Screenshot_20260323_134824_Chrome.jpg
END:VEVENT
END:VCALENDAR