BEGIN:VCALENDAR
VERSION:2.0
PRODID:-//Sorties à Nantes - ECPv6.15.20//NONSGML v1.0//EN
CALSCALE:GREGORIAN
METHOD:PUBLISH
X-WR-CALNAME:Sorties à Nantes
X-ORIGINAL-URL:https://sortiesanantes.fr
X-WR-CALDESC:Évènements pour Sorties à Nantes
REFRESH-INTERVAL;VALUE=DURATION:PT1H
X-Robots-Tag:noindex
X-PUBLISHED-TTL:PT1H
BEGIN:VTIMEZONE
TZID:Europe/Paris
BEGIN:DAYLIGHT
TZOFFSETFROM:+0100
TZOFFSETTO:+0200
TZNAME:CEST
DTSTART:20250330T010000
END:DAYLIGHT
BEGIN:STANDARD
TZOFFSETFROM:+0200
TZOFFSETTO:+0100
TZNAME:CET
DTSTART:20251026T010000
END:STANDARD
BEGIN:DAYLIGHT
TZOFFSETFROM:+0100
TZOFFSETTO:+0200
TZNAME:CEST
DTSTART:20260329T010000
END:DAYLIGHT
BEGIN:STANDARD
TZOFFSETFROM:+0200
TZOFFSETTO:+0100
TZNAME:CET
DTSTART:20261025T010000
END:STANDARD
BEGIN:DAYLIGHT
TZOFFSETFROM:+0100
TZOFFSETTO:+0200
TZNAME:CEST
DTSTART:20270328T010000
END:DAYLIGHT
BEGIN:STANDARD
TZOFFSETFROM:+0200
TZOFFSETTO:+0100
TZNAME:CET
DTSTART:20271031T010000
END:STANDARD
END:VTIMEZONE
BEGIN:VEVENT
DTSTART;TZID=Europe/Paris:20260326T190000
DTEND;TZID=Europe/Paris:20260326T220000
DTSTAMP:20260420T142352
CREATED:20260323T115715Z
LAST-MODIFIED:20260323T115715Z
UID:64132-1774551600-1774562400@sortiesanantes.fr
SUMMARY:HEXAGONE MMA
DESCRIPTION:Ancrée en France mais dotée d’ambitions internationales\, HEXAGONE MMA s’est rapidement imposée comme une organisation de référence dans le monde des arts martiaux mixtes. Portée par des stars de la discipline\, comme GregMMA\, IbraTV ou Paul Denis Navero\, la ligue des frères Pourrut affiche désormais un objectif clair : proposer le meilleur du MMA à l’ensemble du public français et européen. Avec l’expérience des galas de grande ampleur (Zénith de Paris\, théâtre antique d ‘ Orange\, Arènes de Béziers) et une diffusion assurée dans plus de 150 pays\, HEXAGONE MMA s’apprête à passer dans une autre dimension ! \nRéservez vite vos places ici 🎟 
URL:https://sortiesanantes.fr/event/hexagone-mma/
LOCATION:Zénith\, boulevard du Zénith\, Saint Herblain
CATEGORIES:SPORTS
ATTACH;FMTTYPE=image/jpeg:https://sortiesanantes.fr/wp-content/uploads/2026/03/Screenshot_20260323_125347_Chrome.jpg
END:VEVENT
END:VCALENDAR