BEGIN:VCALENDAR
VERSION:2.0
PRODID:-//Sorties à Nantes - ECPv6.15.20//NONSGML v1.0//EN
CALSCALE:GREGORIAN
METHOD:PUBLISH
X-WR-CALNAME:Sorties à Nantes
X-ORIGINAL-URL:https://sortiesanantes.fr
X-WR-CALDESC:Évènements pour Sorties à Nantes
REFRESH-INTERVAL;VALUE=DURATION:PT1H
X-Robots-Tag:noindex
X-PUBLISHED-TTL:PT1H
BEGIN:VTIMEZONE
TZID:Europe/Paris
BEGIN:DAYLIGHT
TZOFFSETFROM:+0100
TZOFFSETTO:+0200
TZNAME:CEST
DTSTART:20250330T010000
END:DAYLIGHT
BEGIN:STANDARD
TZOFFSETFROM:+0200
TZOFFSETTO:+0100
TZNAME:CET
DTSTART:20251026T010000
END:STANDARD
BEGIN:DAYLIGHT
TZOFFSETFROM:+0100
TZOFFSETTO:+0200
TZNAME:CEST
DTSTART:20260329T010000
END:DAYLIGHT
BEGIN:STANDARD
TZOFFSETFROM:+0200
TZOFFSETTO:+0100
TZNAME:CET
DTSTART:20261025T010000
END:STANDARD
BEGIN:DAYLIGHT
TZOFFSETFROM:+0100
TZOFFSETTO:+0200
TZNAME:CEST
DTSTART:20270328T010000
END:DAYLIGHT
BEGIN:STANDARD
TZOFFSETFROM:+0200
TZOFFSETTO:+0100
TZNAME:CET
DTSTART:20271031T010000
END:STANDARD
END:VTIMEZONE
BEGIN:VEVENT
DTSTART;TZID=Europe/Paris:20260429T190000
DTEND;TZID=Europe/Paris:20260429T200000
DTSTAMP:20260420T122643
CREATED:20260413T171846Z
LAST-MODIFIED:20260413T171846Z
UID:65068-1777489200-1777492800@sortiesanantes.fr
SUMMARY:BIENVENUE À BORD !
DESCRIPTION:Solistes d’Angers Nantes Opéra \nÀ l’opéra\, c’est fou comme on peut chanter avec conviction sur des bateaux. Chants de marin\, bien sûr\, vociférations de pirates\, doux chants d’amour à la proue d’un quelconque Titanic\, airs de bravoure du Pirate de Vincenzo Bellini ou du Corsaire de Giuseppe Verdi… \nDurée : 1h
URL:https://sortiesanantes.fr/event/bienvenue-a-bord/
LOCATION:Théâtre Graslin\, 1 place Graslin\, Nantes
CATEGORIES:OPÉRA
ATTACH;FMTTYPE=image/png:https://sortiesanantes.fr/wp-content/uploads/2026/04/428H.png
END:VEVENT
END:VCALENDAR