BEGIN:VCALENDAR
VERSION:2.0
PRODID:-//Sorties à Nantes - ECPv6.15.20//NONSGML v1.0//EN
CALSCALE:GREGORIAN
METHOD:PUBLISH
X-WR-CALNAME:Sorties à Nantes
X-ORIGINAL-URL:https://sortiesanantes.fr
X-WR-CALDESC:Évènements pour Sorties à Nantes
REFRESH-INTERVAL;VALUE=DURATION:PT1H
X-Robots-Tag:noindex
X-PUBLISHED-TTL:PT1H
BEGIN:VTIMEZONE
TZID:Europe/Paris
BEGIN:DAYLIGHT
TZOFFSETFROM:+0100
TZOFFSETTO:+0200
TZNAME:CEST
DTSTART:20250330T010000
END:DAYLIGHT
BEGIN:STANDARD
TZOFFSETFROM:+0200
TZOFFSETTO:+0100
TZNAME:CET
DTSTART:20251026T010000
END:STANDARD
BEGIN:DAYLIGHT
TZOFFSETFROM:+0100
TZOFFSETTO:+0200
TZNAME:CEST
DTSTART:20260329T010000
END:DAYLIGHT
BEGIN:STANDARD
TZOFFSETFROM:+0200
TZOFFSETTO:+0100
TZNAME:CET
DTSTART:20261025T010000
END:STANDARD
BEGIN:DAYLIGHT
TZOFFSETFROM:+0100
TZOFFSETTO:+0200
TZNAME:CEST
DTSTART:20270328T010000
END:DAYLIGHT
BEGIN:STANDARD
TZOFFSETFROM:+0200
TZOFFSETTO:+0100
TZNAME:CET
DTSTART:20271031T010000
END:STANDARD
END:VTIMEZONE
BEGIN:VEVENT
DTSTART;TZID=Europe/Paris:20260417T200000
DTEND;TZID=Europe/Paris:20260417T230000
DTSTAMP:20260420T111849
CREATED:20260413T171406Z
LAST-MODIFIED:20260417T082414Z
UID:65062-1776456000-1776466800@sortiesanantes.fr
SUMMARY:LUCIA DI LAMMERMOOR
DESCRIPTION:Le romantisme est à son apogée dans Lucia di Lammermoor\, brulante tragédie autour d’un amour rendu impossible\, dans une atmosphère musicale sombre\, seulement sublimée par un chant d’une pureté bouleversante. \n📍 Théâtre Graslin\, Nantes\nDimanche 12 avril à 16h\nMardi 14 avril à 20h\nMercredi 15 avril à 20h\nVendredi 17 avril à 20h \n🎫 de 4 à 80 €\n🚨 J-14 : de nouvelles places seront mises en vente le 27/03 pour les représentations à Nantes\, dès 13h30 \n⏱️ 3 h\, avec entracte\nOpéra en italien\, surtitré en français \n🤝 Une coproduction Angers Nantes Opéra\, Opéra de Rennes\, Théâtre de Lorient – Centre dramatique national\, Opéra de Massy\, Théâtre Impérial de Compiègne – Opéra de Compiègne\n—\nÀ retrouver au Grand-Théâtre d’Angers\, le 25 mars 2026
URL:https://sortiesanantes.fr/event/65062/
LOCATION:Théâtre Graslin\, 1 place Graslin\, Nantes
CATEGORIES:OPÉRA,SPECTACLES
ATTACH;FMTTYPE=image/jpeg:https://sortiesanantes.fr/wp-content/uploads/2026/04/FB_IMG_1776100130851.jpg
END:VEVENT
END:VCALENDAR