BEGIN:VCALENDAR
VERSION:2.0
PRODID:-//Sorties à Nantes - ECPv6.15.20//NONSGML v1.0//EN
CALSCALE:GREGORIAN
METHOD:PUBLISH
X-ORIGINAL-URL:https://sortiesanantes.fr
X-WR-CALDESC:Évènements pour Sorties à Nantes
REFRESH-INTERVAL;VALUE=DURATION:PT1H
X-Robots-Tag:noindex
X-PUBLISHED-TTL:PT1H
BEGIN:VTIMEZONE
TZID:Europe/Paris
BEGIN:DAYLIGHT
TZOFFSETFROM:+0100
TZOFFSETTO:+0200
TZNAME:CEST
DTSTART:20250330T010000
END:DAYLIGHT
BEGIN:STANDARD
TZOFFSETFROM:+0200
TZOFFSETTO:+0100
TZNAME:CET
DTSTART:20251026T010000
END:STANDARD
BEGIN:DAYLIGHT
TZOFFSETFROM:+0100
TZOFFSETTO:+0200
TZNAME:CEST
DTSTART:20260329T010000
END:DAYLIGHT
BEGIN:STANDARD
TZOFFSETFROM:+0200
TZOFFSETTO:+0100
TZNAME:CET
DTSTART:20261025T010000
END:STANDARD
BEGIN:DAYLIGHT
TZOFFSETFROM:+0100
TZOFFSETTO:+0200
TZNAME:CEST
DTSTART:20270328T010000
END:DAYLIGHT
BEGIN:STANDARD
TZOFFSETFROM:+0200
TZOFFSETTO:+0100
TZNAME:CET
DTSTART:20271031T010000
END:STANDARD
END:VTIMEZONE
BEGIN:VEVENT
DTSTART;TZID=Europe/Paris:20260531T160000
DTEND;TZID=Europe/Paris:20260604T200000
DTSTAMP:20260422T102003
CREATED:20260413T172618Z
LAST-MODIFIED:20260413T172618Z
UID:65074-1780243200-1780603200@sortiesanantes.fr
SUMMARY:ROBINSON CRUSOÉ
DESCRIPTION:JACQUES OFFENBACH \nQuand il passe de l’opérette à l’opéra-comique\, Jacques Offenbach ne perd rien de sa fantaisie. Son Robinson Crusoé nous invite à rire de tout et à savourer les facéties vocales et musicales mais aussi l’élégance du « petit Mozart des Champs-Élysées ». \nOpéra en français\, surtitré\nDurée : 2h15 avec entracte.
URL:https://sortiesanantes.fr/event/robinson-crusoe/
LOCATION:Théâtre Graslin\, 1 place Graslin\, Nantes
CATEGORIES:OPÉRA,SPECTACLES
ATTACH;FMTTYPE=image/png:https://sortiesanantes.fr/wp-content/uploads/2026/04/436H.png
END:VEVENT
BEGIN:VEVENT
DTSTART;TZID=Europe/Paris:20260602T200000
DTEND;TZID=Europe/Paris:20260602T223000
DTSTAMP:20260422T102003
CREATED:20260103T182835Z
LAST-MODIFIED:20260331T104622Z
UID:61428-1780430400-1780439400@sortiesanantes.fr
SUMMARY:LE LAC DES CYGNES
DESCRIPTION:Le Lac des Cygnes\, chef-d’œuvre du ballet classique en deux actes\, revient en 2026-2027 pour une tournée exceptionnelle en France et en Europe. Avec une toute nouvelle production\, ce spectacle promet de vous émerveiller du début à la fin. \nL’histoire du prince Siegfried et de la princesse Odette reprend vie avec intensité. Odette\, victime d’un sortilège cruel\, est condamnée à vivre sous l’apparence d’un cygne le jour et retrouve sa forme humaine la nuit. Siegfried\, fou d’amour\, s’engage à briser ce sort. Arrivera-t-il à déjouer les pièges de Rothbart et à libérer Odette ? L’amour suffira-t-il pour triompher du mal ? \nCette œuvre intemporelle\, créée en 1875 par Piotr Ilitch Tchaïkovski et sublimée en 1895 par le chorégraphe Marius Petipa\, est devenue le symbole ultime du ballet romantique. Avec des scènes légendaires comme le célèbre pas de deux et la majestueuse danse des cygnes\, ce ballet continue d’enchanter des générations entières. \nUne production pleine de magie pour 2026-2027\nCette version de Le Lac des Cygnes propose\, des décors enchanteurs qui plongent les spectateurs dans un univers féerique\, des costumes somptueux et un orchestre accompagnant des danseurs professionnels. \nUn spectacle à ne pas manquer !\nQue vous soyez amateur de ballet ou simple curieux\, ce spectacle est une expérience à partager en famille ou entre amis. \nParfait pour petits et grands\, Le Lac des Cygnes 2026-2027 vous invite à vivre un moment riche en émotions et en beauté. \nRéservez vos places dès maintenant et laissez-vous transporter par cette œuvre mythique qui traverse le temps ! \nRéservez vos billets 🎟 
URL:https://sortiesanantes.fr/event/le-lac-des-cygnes/
CATEGORIES:SPECTACLES
ATTACH;FMTTYPE=image/jpeg:https://sortiesanantes.fr/wp-content/uploads/2026/01/lac-cygnes-nantes-2022.jpg
END:VEVENT
END:VCALENDAR