BEGIN:VCALENDAR
VERSION:2.0
PRODID:-//Sorties à Nantes - ECPv6.15.20//NONSGML v1.0//EN
CALSCALE:GREGORIAN
METHOD:PUBLISH
X-WR-CALNAME:Sorties à Nantes
X-ORIGINAL-URL:https://sortiesanantes.fr
X-WR-CALDESC:Évènements pour Sorties à Nantes
REFRESH-INTERVAL;VALUE=DURATION:PT1H
X-Robots-Tag:noindex
X-PUBLISHED-TTL:PT1H
BEGIN:VTIMEZONE
TZID:Europe/Paris
BEGIN:DAYLIGHT
TZOFFSETFROM:+0100
TZOFFSETTO:+0200
TZNAME:CEST
DTSTART:20250330T010000
END:DAYLIGHT
BEGIN:STANDARD
TZOFFSETFROM:+0200
TZOFFSETTO:+0100
TZNAME:CET
DTSTART:20251026T010000
END:STANDARD
BEGIN:DAYLIGHT
TZOFFSETFROM:+0100
TZOFFSETTO:+0200
TZNAME:CEST
DTSTART:20260329T010000
END:DAYLIGHT
BEGIN:STANDARD
TZOFFSETFROM:+0200
TZOFFSETTO:+0100
TZNAME:CET
DTSTART:20261025T010000
END:STANDARD
BEGIN:DAYLIGHT
TZOFFSETFROM:+0100
TZOFFSETTO:+0200
TZNAME:CEST
DTSTART:20270328T010000
END:DAYLIGHT
BEGIN:STANDARD
TZOFFSETFROM:+0200
TZOFFSETTO:+0100
TZNAME:CET
DTSTART:20271031T010000
END:STANDARD
END:VTIMEZONE
BEGIN:VEVENT
DTSTART;TZID=Europe/Paris:20260408T143000
DTEND;TZID=Europe/Paris:20260408T153000
DTSTAMP:20260420T111417
CREATED:20260219T062146Z
LAST-MODIFIED:20260407T224921Z
UID:63231-1775658600-1775662200@sortiesanantes.fr
SUMMARY:GABILOLO DANS LA JUNGLE
DESCRIPTION:Théâtre d’humour interactif et musical de Catherine Degay de 2 à 8 ans\, mise en scène de Jérémy Martin\, avec Christophe Valério et Aurélia Izarn- Berger \nGabilolo revient enfin à Nantes dans une aventure interactive et musicale pleine d’humour au cœur de la jungle ! \nDevenu photographe animalier\, Gabilolo se retrouve en pleine jungle en compagnie de Mademoiselle Cyclamen\, qui n’a rien d’une aventurière !\nLorsque cette dernière se fait enlever par le magicien de cette étrange forêt vierge afin de l’épouser\, Gabilolo va devoir faire tout son possible pour la libérer\, notamment grâce à Nini la sauvageonne et aux enfants du public.\nIl faudra alors se montrer très malins\, surtout face aux animaux de la jungle\, entre autres un lion très farceur et un singe bien malicieux ! \nLa recette des précédents opus reste la même : humour omniprésent\, intrigue accessible\, dialogues simples mais efficaces\, musiques entraînantes et\, surtout\, sollicitation des enfants pour faire avancer l’histoire. \nRéservez vite vos places ici 🎟 
URL:https://sortiesanantes.fr/event/gabilolo-dans-la-jungle/
LOCATION:Théâtre de Jeanne\, 5 rue Salorges\, Nantes
CATEGORIES:JEUNE PUBLIC,SPECTACLES
ATTACH;FMTTYPE=image/jpeg:https://sortiesanantes.fr/wp-content/uploads/2026/02/vz-513280e3-b280-4945-b1a4-6b61c00c3b27.jpeg
END:VEVENT
END:VCALENDAR