BEGIN:VCALENDAR
VERSION:2.0
PRODID:-//Sorties à Nantes - ECPv6.15.20//NONSGML v1.0//EN
CALSCALE:GREGORIAN
METHOD:PUBLISH
X-WR-CALNAME:Sorties à Nantes
X-ORIGINAL-URL:https://sortiesanantes.fr
X-WR-CALDESC:Évènements pour Sorties à Nantes
REFRESH-INTERVAL;VALUE=DURATION:PT1H
X-Robots-Tag:noindex
X-PUBLISHED-TTL:PT1H
BEGIN:VTIMEZONE
TZID:Europe/Paris
BEGIN:DAYLIGHT
TZOFFSETFROM:+0100
TZOFFSETTO:+0200
TZNAME:CEST
DTSTART:20250330T010000
END:DAYLIGHT
BEGIN:STANDARD
TZOFFSETFROM:+0200
TZOFFSETTO:+0100
TZNAME:CET
DTSTART:20251026T010000
END:STANDARD
BEGIN:DAYLIGHT
TZOFFSETFROM:+0100
TZOFFSETTO:+0200
TZNAME:CEST
DTSTART:20260329T010000
END:DAYLIGHT
BEGIN:STANDARD
TZOFFSETFROM:+0200
TZOFFSETTO:+0100
TZNAME:CET
DTSTART:20261025T010000
END:STANDARD
BEGIN:DAYLIGHT
TZOFFSETFROM:+0100
TZOFFSETTO:+0200
TZNAME:CEST
DTSTART:20270328T010000
END:DAYLIGHT
BEGIN:STANDARD
TZOFFSETFROM:+0200
TZOFFSETTO:+0100
TZNAME:CET
DTSTART:20271031T010000
END:STANDARD
END:VTIMEZONE
BEGIN:VEVENT
DTSTART;TZID=Europe/Paris:20260506T200000
DTEND;TZID=Europe/Paris:20260506T211000
DTSTAMP:20260422T130316
CREATED:20260413T172211Z
LAST-MODIFIED:20260413T172211Z
UID:65071-1778097600-1778101800@sortiesanantes.fr
SUMMARY:SOLARIS
DESCRIPTION:OTHMAN LOUATI \nLe créateur d’images Jacques Perconte et l’inventeur de sons inouis Othman Louati se retrouvent pour une nouvelle exploration conjointe et croisée de leurs univers autour de Solaris\, l’un des romans les plus envoutants du XXe siecle. Une expérience à vivre. \nDurée : 1h10.
URL:https://sortiesanantes.fr/event/solaris/
LOCATION:Théâtre Graslin\, 1 place Graslin\, Nantes
CATEGORIES:SPECTACLES
ATTACH;FMTTYPE=image/png:https://sortiesanantes.fr/wp-content/uploads/2026/04/441H.png
END:VEVENT
BEGIN:VEVENT
DTSTART;TZID=Europe/Paris:20260521T190000
DTEND;TZID=Europe/Paris:20260521T223000
DTSTAMP:20260422T130316
CREATED:20260406T165608Z
LAST-MODIFIED:20260406T165625Z
UID:64673-1779390000-1779402600@sortiesanantes.fr
SUMMARY:LA FLÛTE ENCHANTÉE
DESCRIPTION:La princesse Pamina a été enlevée. Sa mère\, la Reine de la Nuit\, charge le jeune prince Tamino de porter secours à sa fille. Tamino et son fidèle acolyte\, Papageno\, se lancent dans l’aventure\, mais ils comprennent rapidement que\, lorsqu’on part à la recherche de l’amour\, les apparences sont parfois trompeuses. Guidés par une flûte enchantée\, ils rencontrent des monstres\, des bandits\, et une mystérieuse confrérie d’hommes – mais\, en fait\, l’aide arrive au moment où ils s’y attendent le moins. L’opéra fantastique de Mozart brille de mille feux dans le spectacle féérique de David McVicar. Distribution prestigieuse : Julia Bullock joue Pamina\, Amitai Pati tient le rôle de Tamino et Huw Montague Rendall\, celui de Papageno\, Kathryn Lewek est la Reine de la Nuit\, et Soloman Howard interprète Sarastro\, sous la direction de la cheffe d’orchestre française Marie Jacquot qui fait ses débuts à Covent Garden. \nRéservez vite vos places : https://www.grandecran.fr/movies/1000022522-la-flute-enchantee-the-royal-opera
URL:https://sortiesanantes.fr/event/la-flute-enchantee/
LOCATION:Cinéma Grand Écran\, 22 avenue des Perrières\, La Chapelle-sur Erdre
CATEGORIES:CINÉMA,DANSE,SPECTACLES
ATTACH;FMTTYPE=image/jpeg:https://sortiesanantes.fr/wp-content/uploads/2026/04/ROHLive-The-Magic-Flute.jpg
END:VEVENT
BEGIN:VEVENT
DTSTART;TZID=Europe/Paris:20260524T150000
DTEND;TZID=Europe/Paris:20260524T200000
DTSTAMP:20260422T130316
CREATED:20260403T023415Z
LAST-MODIFIED:20260403T023415Z
UID:64534-1779634800-1779652800@sortiesanantes.fr
SUMMARY:STAR ACADEMY TOUR
DESCRIPTION:STAR ACADEMY : TOUR 2026 – LE MEILLEUR DE LA STAR ACADEMY EN LIVE \nAprès avoir conquis près d’un million de spectateurs et offert plus de 130 représentations en France\, en Belgique et en Suisse\, le Star Academy Tour revient avec un show inédit porté par les artistes de cette nouvelle promotion. \nNouvelle saison\, nouveaux artistes\, nouvelle setlist\, le Star Academy Tour fait peau neuve pour vous proposer un nouveau show toujours plus spectaculaire. Au programme : chorégraphies endiablées\, meilleures reprises de vos chansons favorites et ambiance explosive…Revivez le temps d’un soir les meilleurs moments de l’aventure au château en compagnie de vos académiciens préférés. \nNe manquez pas l’événement musical incontournable de l’année et venez vivre l’expérience Star Academy en live ! \nRéservez vite vos places ici 🎟
URL:https://sortiesanantes.fr/event/star-academy-tour/
LOCATION:Zénith\, boulevard du Zénith\, Saint Herblain
CATEGORIES:SPECTACLES
ATTACH;FMTTYPE=image/jpeg:https://sortiesanantes.fr/wp-content/uploads/2026/04/Screenshot_20260403_042629_Chrome.jpg
END:VEVENT
BEGIN:VEVENT
DTSTART;TZID=Europe/Paris:20260531T160000
DTEND;TZID=Europe/Paris:20260531T183000
DTSTAMP:20260422T130316
CREATED:20260413T172919Z
LAST-MODIFIED:20260413T172919Z
UID:65077-1780243200-1780252200@sortiesanantes.fr
SUMMARY:GARDERIES
DESCRIPTION:Profitez de l’opéra Robinson Crusoé au Théâtre Graslin ou au Grand Théâtre et confiez vos enfants à notre partenaire Kangourou Kids qui vous propose un service de garderie sur place. \nGratuit\, à partir de 3 ans. Réservé aux enfants accompagnant les détenteurs de billets du spectacle. \nInscription obligatoire au nom de l’enfant jusqu’à une semaine avant la représentation et dans la limite des places disponibles.
URL:https://sortiesanantes.fr/event/garderies/
LOCATION:Théâtre Graslin\, 1 place Graslin\, Nantes
CATEGORIES:OPÉRA
ATTACH;FMTTYPE=image/jpeg:https://sortiesanantes.fr/wp-content/uploads/2026/04/522H.jpg
END:VEVENT
BEGIN:VEVENT
DTSTART;TZID=Europe/Paris:20260531T160000
DTEND;TZID=Europe/Paris:20260604T200000
DTSTAMP:20260422T130316
CREATED:20260413T172618Z
LAST-MODIFIED:20260413T172618Z
UID:65074-1780243200-1780603200@sortiesanantes.fr
SUMMARY:ROBINSON CRUSOÉ
DESCRIPTION:JACQUES OFFENBACH \nQuand il passe de l’opérette à l’opéra-comique\, Jacques Offenbach ne perd rien de sa fantaisie. Son Robinson Crusoé nous invite à rire de tout et à savourer les facéties vocales et musicales mais aussi l’élégance du « petit Mozart des Champs-Élysées ». \nOpéra en français\, surtitré\nDurée : 2h15 avec entracte.
URL:https://sortiesanantes.fr/event/robinson-crusoe/
LOCATION:Théâtre Graslin\, 1 place Graslin\, Nantes
CATEGORIES:OPÉRA,SPECTACLES
ATTACH;FMTTYPE=image/png:https://sortiesanantes.fr/wp-content/uploads/2026/04/436H.png
END:VEVENT
END:VCALENDAR