BEGIN:VCALENDAR
VERSION:2.0
PRODID:-//Sorties à Nantes - ECPv6.15.20//NONSGML v1.0//EN
CALSCALE:GREGORIAN
METHOD:PUBLISH
X-ORIGINAL-URL:https://sortiesanantes.fr
X-WR-CALDESC:Évènements pour Sorties à Nantes
REFRESH-INTERVAL;VALUE=DURATION:PT1H
X-Robots-Tag:noindex
X-PUBLISHED-TTL:PT1H
BEGIN:VTIMEZONE
TZID:Europe/Paris
BEGIN:DAYLIGHT
TZOFFSETFROM:+0100
TZOFFSETTO:+0200
TZNAME:CEST
DTSTART:20250330T010000
END:DAYLIGHT
BEGIN:STANDARD
TZOFFSETFROM:+0200
TZOFFSETTO:+0100
TZNAME:CET
DTSTART:20251026T010000
END:STANDARD
BEGIN:DAYLIGHT
TZOFFSETFROM:+0100
TZOFFSETTO:+0200
TZNAME:CEST
DTSTART:20260329T010000
END:DAYLIGHT
BEGIN:STANDARD
TZOFFSETFROM:+0200
TZOFFSETTO:+0100
TZNAME:CET
DTSTART:20261025T010000
END:STANDARD
BEGIN:DAYLIGHT
TZOFFSETFROM:+0100
TZOFFSETTO:+0200
TZNAME:CEST
DTSTART:20270328T010000
END:DAYLIGHT
BEGIN:STANDARD
TZOFFSETFROM:+0200
TZOFFSETTO:+0100
TZNAME:CET
DTSTART:20271031T010000
END:STANDARD
END:VTIMEZONE
BEGIN:VEVENT
DTSTART;TZID=Europe/Paris:20260424T193000
DTEND;TZID=Europe/Paris:20260425T003000
DTSTAMP:20260422T130828
CREATED:20260413T164955Z
LAST-MODIFIED:20260413T164955Z
UID:65056-1777059000-1777077000@sortiesanantes.fr
SUMMARY:MAMAN & SES COPINES
DESCRIPTION:💃 NANTES : 15e édition de “Mamans & ses Copines” signée Mamma Mia \nUne soirée pensée pour les mamans\, mais ouverte à toutes (maman ou non) \nTout a commencé à Nantes\, il y a 1 an\, en mars 2025. \nDepuis\, le rendez-vous est mensuel…et vous êtes toujours plus nombreuses à chaque édition ❤️ \nEt comme vous nous l’avez demandé… \n✨ Ça y est : Mamma Mia arrive sur l’île de Nantes ! \n🗓️ Vendredi 24 avril \n📍 DOSES – 21\, quai des Antilles\, Nantes \n🕢 19h30 – 00h30 \n🔥 5 heures de danse\, de rires et de lâcher-prise !!!! \n👉 Et pour celles qui veulent continuer la soirée\, possibilité de prolonger après 00h30. \nLa soirée “Mamans & ses Copines”\, c’est une véritable expérience : un moment pour danser\, déconnecter\, rire et recharger les batteries entre filles. \n👯‍♀️ 100 % filles (hors staff) \n🎶 Ambiance années 90/2000 : Céline Dion\, Britney Spears\, Spice Girls\, Gala… \nPrépare-toi à chanter et danser comme jamais ! \n🤝 En partenariat avec Chérie Fm Nantes \n💸 Entrée : 15 € \n🥂 Coupe offerte ou soft \nPas de vestiaire \n⚠️ Toutes nos soirées sont uniquement sur réservation \n🔗 Réservez vite vos places ici 🎟 \nToi aussi\, viens vivre l’expérience unique Mamma Mia !
URL:https://sortiesanantes.fr/event/maman-ses-copines/
LOCATION:DOSES\, 21 quai des Antilles\, Nantes
CATEGORIES:MUSIQUE
ATTACH;FMTTYPE=image/jpeg:https://sortiesanantes.fr/wp-content/uploads/2026/04/FB_IMG_1776098724494.jpg
END:VEVENT
BEGIN:VEVENT
DTSTART;TZID=Europe/Paris:20260424T200000
DTEND;TZID=Europe/Paris:20260424T213000
DTSTAMP:20260422T130828
CREATED:20260420T220210Z
LAST-MODIFIED:20260420T220234Z
UID:65304-1777060800-1777066200@sortiesanantes.fr
SUMMARY:THYLACINE EN CONCERT
DESCRIPTION:Il faut parfois se déraciner pour s’accorder avec soi-même et avec le monde alentour.\nC’est en tout cas selon ce précepte qui lui a jusqu’ici si bien réussi que Thylacine a décidé de poursuivre sa quête créative.\nL’artiste qu’on a suivi à bord du Transsibérien\, sur les routes de la cordillère des Andes et des Iles Féroé\, ou en Turquie pour y apprendre à jouer du bag?lama\, a décidé pour son nouvel album Roads vol. 3 de s’éloigner à nouveau des automatismes créatifs de son studio parisien.\nLui\, qui confesse avoir du mal à composer deux morceaux dans un seul et même endroit\, a cette fois décidé d’arpenter pendant trois mois un nouveau continent. Toujours embarqué dans sa désormais fameuse caravane flamboyante\, une Airstream de 1972 équipée pour enregistrer\, travailler et interpréter ses voyages pas comme les autres\, William Rezé-Thylacine s’est donné le temps dont il avait besoin. Ce temps qui manque quand on est ensablé dans la routine et le rythme des tournées\, ce temps qu’il faut pour que les voyages soient d’authentiques expériences et que l’intuition se transforme en une matière toujours plus audacieuse et originale. Cet album s’annonce à l’image d’un étonnant périple. Un véritable vertige créatif\, résultat de profondes interrogations sur son art et sa pratique face aux équilibres du monde qui l’entoure. Une nouvelle odyssée musicale qui fait de Thylacine un artiste fondamentalement unique en son genre. \nRéservez vite vos places ici 🎟 
URL:https://sortiesanantes.fr/event/65304/
LOCATION:Zénith\, boulevard du Zénith\, Saint Herblain
CATEGORIES:MUSIQUE
ATTACH;FMTTYPE=image/jpeg:https://sortiesanantes.fr/wp-content/uploads/2026/04/template-ville-THYLACINE3.jpg
END:VEVENT
BEGIN:VEVENT
DTSTART;TZID=Europe/Paris:20260424T203000
DTEND;TZID=Europe/Paris:20260424T230000
DTSTAMP:20260422T130828
CREATED:20260413T112112Z
LAST-MODIFIED:20260413T112112Z
UID:64950-1777062600-1777071600@sortiesanantes.fr
SUMMARY:NOOR FESTIVAL NOUVEL ORAGE
DESCRIPTION:NOOR \nMélancolie et chagrin ont beau fournir à Noor la matière première de ses chansons\, l’auteure-compositrice livre\, avec Les histoires tristes me collent au corps\, un premier EP délicieusement réconfortant. La jeune femme y chante l’amour et ses peines\, luttant contre la fatalité par une musique en équilibre entre majesté et sobriété. Coproduit par la Suédoise Kerstin Ljungström\, sophistiqué dans l’exécution\, Les histoires tristes me collent au corps s’écoute comme on feuilleterait un journal intime. \nSes textes sans filtre\, portés par une voix pure et vibrante\, jettent en pâture la complexité des émotions post-rupture. Noor\, qui a remporté le grand prix des Inouïs du Printemps de Bourges en avril dernier\, raconte la vie comme elle est\, pleine de travers et d’insondables crevasses. Les mots lui ont permis de trouver le moyen le plus évident et le plus heureux d’être au monde. Petite\, elle écrit partout\, tout le temps\, s’initie en autodidacte au piano et compose ses premières chansons. \nAmoureuse des classiques du spleen (Young and Beautiful de Lana Del Rey)\, convertie à la limpidité folk-indie de Bon Iver comme à l’énergie de Bleachers\, Noor a\, au cours du temps\, affiné sa plume riche\, directe\, expressive\, profonde. \nSur “H24”\, ballade qui ouvre l’EP\, elle sonde la passion qui vient tout juste de s’achever. L’amour\, s’il brise\, nourrit la musicienne d’une inspiration sans fin. Que ce soit sur les hommes qu’elle a aimés à en perdre la raison (À tous ces garçons)\, ceux qu’elle a su quitter (Sur mes eaux) ou ceux qu’elle a suppliés (Call Me Back)\, la passion et le tourment y mènent une ronde inépuisable\, où même la plus déchirante des blessures est préférable à ne rien vivre du tout. \nDes histoires tristes\, oui\, mais avant tout des remèdes qui célèbrent la force d’un désir qui épuise et rend vivant. Avec l’idée que la musique sera d’abord une affaire de sauvetage. \nFestival Nouvel Orage \nNouvel orage\, c’est la promesse d’une tempête artistique bousculant les codes et repoussant\nles frontières des genres musicaux. Festival itinérant dans plusieurs lieux nantais\, il propose\nune programmation axée sur l’émergence et les profils artistiques singuliers\, celles et ceux qui\nfont bouger les lignes.\nNé en 2025 avec l’ambition d’être un tremplin pour une nouvelle génération d’artistes aussi\ndivers.es qu’avant-gardistes\, Nouvel Orage souhaite également faire le pont entre les styles\nmusicaux protéiformes et leur positionnement avant-gardiste sur la scène musicale actuelle. \nRéservez vite vos places ici 🎟
URL:https://sortiesanantes.fr/event/noor-festival-nouvel-orage/
CATEGORIES:FESTIVALS,MUSIQUE
ATTACH;FMTTYPE=image/jpeg:https://sortiesanantes.fr/wp-content/uploads/2026/04/FB_IMG_1776079030183.jpg
END:VEVENT
END:VCALENDAR