BEGIN:VCALENDAR
VERSION:2.0
PRODID:-//Sorties à Nantes - ECPv6.15.20//NONSGML v1.0//EN
CALSCALE:GREGORIAN
METHOD:PUBLISH
X-WR-CALNAME:Sorties à Nantes
X-ORIGINAL-URL:https://sortiesanantes.fr
X-WR-CALDESC:Évènements pour Sorties à Nantes
REFRESH-INTERVAL;VALUE=DURATION:PT1H
X-Robots-Tag:noindex
X-PUBLISHED-TTL:PT1H
BEGIN:VTIMEZONE
TZID:Europe/Paris
BEGIN:DAYLIGHT
TZOFFSETFROM:+0100
TZOFFSETTO:+0200
TZNAME:CEST
DTSTART:20250330T010000
END:DAYLIGHT
BEGIN:STANDARD
TZOFFSETFROM:+0200
TZOFFSETTO:+0100
TZNAME:CET
DTSTART:20251026T010000
END:STANDARD
BEGIN:DAYLIGHT
TZOFFSETFROM:+0100
TZOFFSETTO:+0200
TZNAME:CEST
DTSTART:20260329T010000
END:DAYLIGHT
BEGIN:STANDARD
TZOFFSETFROM:+0200
TZOFFSETTO:+0100
TZNAME:CET
DTSTART:20261025T010000
END:STANDARD
BEGIN:DAYLIGHT
TZOFFSETFROM:+0100
TZOFFSETTO:+0200
TZNAME:CEST
DTSTART:20270328T010000
END:DAYLIGHT
BEGIN:STANDARD
TZOFFSETFROM:+0200
TZOFFSETTO:+0100
TZNAME:CET
DTSTART:20271031T010000
END:STANDARD
END:VTIMEZONE
BEGIN:VEVENT
DTSTART;TZID=Europe/Paris:20260417T200000
DTEND;TZID=Europe/Paris:20260418T200000
DTSTAMP:20260424T100002
CREATED:20260413T113522Z
LAST-MODIFIED:20260413T113522Z
UID:64959-1776456000-1776542400@sortiesanantes.fr
SUMMARY:DAMSO BEYAH TOUR
DESCRIPTION:Après un été marquant sur les plus grandes scènes de festivals\, Damso lance le BEYAH TOUR\, sa nouvelle tournée\, à travers la France\, la Belgique\, la Suisse et le Canada.\nAvec déjà trois Paris La Défense Arena complets en un temps record\, le public attend son retour sur scène avec impatience. Dans une expérience scénique rare\, intense et immersive\, il y présentera des titres de son dernier album BEYAH ainsi que ses classiques.\nPorté par une scénographie ambitieuse\, Damso prouve sa singularité sur la scène musicale francophone et repousse les limites de la créativité pour faire de chaque concert un moment unique et sincère entre l’artiste et son public. \nRéservez vite vos places ici 🎟 
URL:https://sortiesanantes.fr/event/damso-beyah-tour/
LOCATION:Zénith\, boulevard du Zénith\, Saint Herblain
CATEGORIES:MUSIQUE
ATTACH;FMTTYPE=image/jpeg:https://sortiesanantes.fr/wp-content/uploads/2026/04/Screenshot_20260413_133411_Chrome.jpg
END:VEVENT
BEGIN:VEVENT
DTSTART;TZID=Europe/Paris:20260417T235900
DTEND;TZID=Europe/Paris:20260418T063000
DTSTAMP:20260424T100002
CREATED:20260413T180906Z
LAST-MODIFIED:20260413T180906Z
UID:65112-1776470340-1776493800@sortiesanantes.fr
SUMMARY:NANTES RAVE TECHNO XXL
DESCRIPTION:Nantes Rave Techno XXL avec I Hate Models\, BOTL & more le vendredi 17 avril 2026 au Warehouse Nantes. \nLa Nantes Rave Techno XXL revient en édition spéciale Boiler Room\, avec une scène 360° ! En tête d’affiche\, I Hate Models\, figure incontournable de la techno contemporaine. Artiste profondément non-conformiste\, il façonne une musique guidée par l’émotion pure\, oscillant entre nostalgie\, mélancolie et brutalité. Entre techno\, industriel et trance\, ses sets sont de véritables voyages introspectifs\, nourris par une tension constante entre ombre et lumière. Fondateur du label Disco Inferno\, il s’impose comme l’une des voix les plus singulières et influentes de la scène électronique actuelle. \nÀ ses côtés\, BOTL\, force montante de la hard techno européenne. Porté par l’esprit rave old school\, il mêle percussions lourdes\, grooves distordus et mélodies incisives. Soutenu par les plus grands DJs du genre et remarqué sur les scènes européennes\, asiatiques et latino-américaines\, il impose une énergie brute et fédératrice\, taillée pour les clubs et les grands formats. \nLa scène locale sera pleinement mise à l’honneur en Room 1 avec Just MC (Symbiose) B2B Hder (OSS Records) et Bones 33 (Hotline) B2B Miza (Hotline)\, aux côtés des têtes d’affiche\, dans une configuration 360° au plus proche du public. \nEn Room 2\, place à LEELØ\, puis Ghostface (Furi Techno) B2B Apocalipse (La Piratech) et Drillicit. \n——————————————————\n𝐋𝐢𝐧𝐞-𝐮𝐩 \nROOM 1 ↓\n‣ I Hate Models\n‣ BOTL\n‣ Bones 33 (Hotline) B2B Miza (Hotline) \nROOM 2 ↓\n‣ LEELØ\n‣ Ghostface (Furi Techno)\n‣ Apocalipse (La Piratech)\n‣ Drillicit \n——————————————————\n𝐈𝐧𝐟𝐨𝐬 𝐛𝐢𝐥𝐥𝐞𝐭𝐭𝐞𝐫𝐢𝐞\n🎫 Prévente à partir de 25\,99€ en quantité limitée\, disponible sur l’application Warehouse ou sur Pass Culture\n🍸 Pour toute réservation d’une table ou d’une bouteille\, il faut remplir ce formulaire : https://www.warehouse-nantes.fr/vip \n——————————————————\n𝐀𝐩𝐩𝐥𝐢𝐜𝐚𝐭𝐢𝐨𝐧 𝐦𝐨𝐛𝐢𝐥𝐞\n📲 | Télécharge-la gratuitement sur l’App Store ou Google Play !\nℹ️ | Plus d’infos sur : https://www.warehouse-nantes.fr/
URL:https://sortiesanantes.fr/event/nantes-rave-techno-xxl/
LOCATION:Warehouse\, 21 quai des Antilles\, Nantes
CATEGORIES:MUSIQUE
ATTACH;FMTTYPE=image/jpeg:https://sortiesanantes.fr/wp-content/uploads/2026/04/FB_IMG_1776103624072.jpg
END:VEVENT
BEGIN:VEVENT
DTSTART;TZID=Europe/Paris:20260418T190000
DTEND;TZID=Europe/Paris:20260418T220000
DTSTAMP:20260424T100002
CREATED:20260413T175423Z
LAST-MODIFIED:20260413T175423Z
UID:65098-1776538800-1776549600@sortiesanantes.fr
SUMMARY:CONCERT FOLK THE AMBER DAY
DESCRIPTION:Depuis 2020\, The Amber Day mêle des mélodies folk et bluegrass d’inspiration américaine à des sonorités pop. Le groupe se distingue notamment par la voix singulière de Rachel\, originaire de Louisiane. Leurs compositions originales offrent une immersion intimiste\, oscillant entre énergie et douceur.\nRécemment\, leur univers musical a pris un nouveau tournant avec l’intégration de leurs titres dans la série américaine My Life With The Walter Boys\, produite par Netflix. \nRendez-vous le samedi 18 avril à 19h pour découvrir The Amber Day sur la scène de La Belle Saison 🌸 \n🎟️ Événement gratuit\n📍Château de la Gobinière • Parc Michel Baudry • Orvault\n📅 Samedi 18 avril • 19h\n🍻 Bar & food sur place 🍔 \nComment venir à La Belle Saison ?\n🚊 Tram Ligne 3 • Arrêt Ferrière\n🚌 Bus 79 • Arrêt Gobinière / Bus C2 • Arrêt Pont du Cens\n🚲 en 20 min du centre-ville (arrêt commerce)\n🚘 Parkings gratuits & accessibles dans le parc ⚠️ places limitées\, merci de respecter & de ne pas se garer dans les zones d’herbes. Nous vous conseillons de privilégier si vous le pouvez les mobilités douces 🌿
URL:https://sortiesanantes.fr/event/concert-folk-the-amber-day/
LOCATION:Guinguette La Belle Saison\, 37 avenue de la Ferrière\, Orvault
CATEGORIES:GRATUIT,MUSIQUE
ATTACH;FMTTYPE=image/jpeg:https://sortiesanantes.fr/wp-content/uploads/2026/04/FB_IMG_1776102648417.jpg
END:VEVENT
BEGIN:VEVENT
DTSTART;TZID=Europe/Paris:20260418T235900
DTEND;TZID=Europe/Paris:20260419T063000
DTSTAMP:20260424T100002
CREATED:20260413T190153Z
LAST-MODIFIED:20260413T190153Z
UID:65141-1776556740-1776580200@sortiesanantes.fr
SUMMARY:CARNAVAL CRAZY WIG
DESCRIPTION:Samedi 18 avril c’est le carnaval de nuit à Nantes alors venez avec tous vos amis pour faire la fête avec vos plus beaux déguisements\, les plus belles perruques et on vous en mettra à disposition ça va être TOP!!! \n🎧 Music by Frenesy & Final by Maxim Leity 🎧 \n🚨 Entrée 🚨 \nde minuit à 1h30 – 5€ + 1 conso \nà partir de 1h30 – 12€ + 1 conso \n▶️ Retrouvez nous aussi sur Instagram \nhttps://www.instagram.com/co2cluborigin.gayclub \n  \n🌈 Soirée LGBTQ+ Friendly 🌈 \nLe CO2 Club Origin soutient la communauté LGBTQI+. \nChacun(e) est le/la bienvenu(e) comme il/elle est\, et aucun manque de respect\, aucune forme de haine\, phobie ou sexisme ne sera tolérée sous peine d’expulsion immédiat. \n📍CO2 Club Origin\, 3 Rue de la Cale de Crucy\, 44100\, Nantes \n⚠ Tram ligne 1 arrêt Gare Maritime \nBus C1 & Luciole GRATUIT arrêt Bas Chantenay. \n⌚️00h00 – 6h30 \n🔞Interdit aux mineurs
URL:https://sortiesanantes.fr/event/carnaval-crazy-wig/
LOCATION:CO2 ORIGIN\, 3 rue de la Cale Crucy\, Nantes
CATEGORIES:MUSIQUE
ATTACH;FMTTYPE=image/jpeg:https://sortiesanantes.fr/wp-content/uploads/2026/04/FB_IMG_1776106668661.jpg
END:VEVENT
END:VCALENDAR