BEGIN:VCALENDAR
VERSION:2.0
PRODID:-//Sorties à Nantes - ECPv6.15.20//NONSGML v1.0//EN
CALSCALE:GREGORIAN
METHOD:PUBLISH
X-WR-CALNAME:Sorties à Nantes
X-ORIGINAL-URL:https://sortiesanantes.fr
X-WR-CALDESC:Évènements pour Sorties à Nantes
REFRESH-INTERVAL;VALUE=DURATION:PT1H
X-Robots-Tag:noindex
X-PUBLISHED-TTL:PT1H
BEGIN:VTIMEZONE
TZID:Europe/Paris
BEGIN:DAYLIGHT
TZOFFSETFROM:+0100
TZOFFSETTO:+0200
TZNAME:CEST
DTSTART:20250330T010000
END:DAYLIGHT
BEGIN:STANDARD
TZOFFSETFROM:+0200
TZOFFSETTO:+0100
TZNAME:CET
DTSTART:20251026T010000
END:STANDARD
BEGIN:DAYLIGHT
TZOFFSETFROM:+0100
TZOFFSETTO:+0200
TZNAME:CEST
DTSTART:20260329T010000
END:DAYLIGHT
BEGIN:STANDARD
TZOFFSETFROM:+0200
TZOFFSETTO:+0100
TZNAME:CET
DTSTART:20261025T010000
END:STANDARD
BEGIN:DAYLIGHT
TZOFFSETFROM:+0100
TZOFFSETTO:+0200
TZNAME:CEST
DTSTART:20270328T010000
END:DAYLIGHT
BEGIN:STANDARD
TZOFFSETFROM:+0200
TZOFFSETTO:+0100
TZNAME:CET
DTSTART:20271031T010000
END:STANDARD
END:VTIMEZONE
BEGIN:VEVENT
DTSTART;TZID=Europe/Paris:20260419T190000
DTEND;TZID=Europe/Paris:20260419T220000
DTSTAMP:20260424T110812
CREATED:20260413T110005Z
LAST-MODIFIED:20260413T110005Z
UID:64941-1776625200-1776636000@sortiesanantes.fr
SUMMARY:EVE FESTIVAL NOUVEL ORAGE
DESCRIPTION:Ève est un artiste de la scène pop indépendante\, reconnu pour son univers singulier et son approche sensible et authentique. Il fait ses premiers pas début 2024 avec des singles tels que Nouveau Jean et Zoé\, qui séduisent rapidement un large public grâce à leur énergie contagieuse et leur mélange subtil de pop et d’influences alternatives. \nAvec une esthétique sonore épurée et des paroles empreintes d’une douce mélancolie romantique\, Ève s’inscrit dans une nouvelle vague d’artistes indie qui explorent des sonorités modernes tout en restant profondément sincères. Sa musique se distingue par une production soignée et une capacité rare à créer des atmosphères immersives\, touchant un public en quête de fraîcheur et d’émotion. \nFestival Nouvel Orage \nNouvel orage\, c’est la promesse d’une tempête artistique bousculant les codes et repoussant\nles frontières des genres musicaux. Festival itinérant dans plusieurs lieux nantais\, il propose\nune programmation axée sur l’émergence et les profils artistiques singuliers\, celles et ceux qui\nfont bouger les lignes.\nNé en 2025 avec l’ambition d’être un tremplin pour une nouvelle génération d’artistes aussi\ndivers.es qu’avant-gardistes\, Nouvel Orage souhaite également faire le pont entre les styles\nmusicaux protéiformes et leur positionnement avant-gardiste sur la scène musicale actuelle. \nRéservez vite vos places ici 🎟 
URL:https://sortiesanantes.fr/event/eve-festival-nouvel-orage/
LOCATION:Le Ferrailleur\, 21 quai des Antilles\, Nantes
CATEGORIES:FESTIVALS,MUSIQUE
ATTACH;FMTTYPE=image/jpeg:https://sortiesanantes.fr/wp-content/uploads/2026/04/FB_IMG_1776077899554.jpg
END:VEVENT
END:VCALENDAR