BEGIN:VCALENDAR
VERSION:2.0
PRODID:-//Sorties à Nantes - ECPv6.15.20//NONSGML v1.0//EN
CALSCALE:GREGORIAN
METHOD:PUBLISH
X-ORIGINAL-URL:https://sortiesanantes.fr
X-WR-CALDESC:Évènements pour Sorties à Nantes
REFRESH-INTERVAL;VALUE=DURATION:PT1H
X-Robots-Tag:noindex
X-PUBLISHED-TTL:PT1H
BEGIN:VTIMEZONE
TZID:Europe/Paris
BEGIN:DAYLIGHT
TZOFFSETFROM:+0100
TZOFFSETTO:+0200
TZNAME:CEST
DTSTART:20250330T010000
END:DAYLIGHT
BEGIN:STANDARD
TZOFFSETFROM:+0200
TZOFFSETTO:+0100
TZNAME:CET
DTSTART:20251026T010000
END:STANDARD
BEGIN:DAYLIGHT
TZOFFSETFROM:+0100
TZOFFSETTO:+0200
TZNAME:CEST
DTSTART:20260329T010000
END:DAYLIGHT
BEGIN:STANDARD
TZOFFSETFROM:+0200
TZOFFSETTO:+0100
TZNAME:CET
DTSTART:20261025T010000
END:STANDARD
BEGIN:DAYLIGHT
TZOFFSETFROM:+0100
TZOFFSETTO:+0200
TZNAME:CEST
DTSTART:20270328T010000
END:DAYLIGHT
BEGIN:STANDARD
TZOFFSETFROM:+0200
TZOFFSETTO:+0100
TZNAME:CET
DTSTART:20271031T010000
END:STANDARD
END:VTIMEZONE
BEGIN:VEVENT
DTSTART;TZID=Europe/Paris:20260416T203000
DTEND;TZID=Europe/Paris:20260416T230000
DTSTAMP:20260422T131157
CREATED:20260413T105232Z
LAST-MODIFIED:20260413T105232Z
UID:64938-1776371400-1776380400@sortiesanantes.fr
SUMMARY:TH FESTIVAL NOUVEL ORAGE
DESCRIPTION:TH\, rappeur originaire de Bondy Nord (93)\, incarne le renouveau de la trap en France. Fusion entre rap de rue et sonorités futuristes\, il a développé la E-TRAP\, un style singulier mêlant sonorités sombres\, glitchs futuristes et une écriture imagée. Après plusieurs projets remarqués\, dont sa première mixtape E-TRAP\, TH confirme en 2025 avec ALGORITHME et sa réédition ALGORITHME 2.0\, où il collabore avec Zed (13 Block) et Kekra. \nPlébiscité par les médias et le public\, TH remplit les salles parisiennes (la Maroquinerie et La Cigale) en quelques heures et passe par les plus grands festivals (Les Ardentes\, We Love Green\, Dour…)\, qui promettent des rencontres explosives avec son public. \nLe rappeur du 93 s’installe comme l’un des rappeurs les plus prometteurs de sa génération et incarne l’évolution d’une trap ambitieuse\, lucide et novatrice. \nTH sera en concert sur la scène mythique de l’Olympia le 10 avril prochain et en tournée dans toute la France. \nFestival Nouvel Orage \nNouvel orage\, c’est la promesse d’une tempête artistique bousculant les codes et repoussant\nles frontières des genres musicaux. Festival itinérant dans plusieurs lieux nantais\, il propose\nune programmation axée sur l’émergence et les profils artistiques singuliers\, celles et ceux qui\nfont bouger les lignes.\nNé en 2025 avec l’ambition d’être un tremplin pour une nouvelle génération d’artistes aussi\ndivers.es qu’avant-gardistes\, Nouvel Orage souhaite également faire le pont entre les styles\nmusicaux protéiformes et leur positionnement avant-gardiste sur la scène musicale actuelle. \nRéservez vite vos places ici 🎟 
URL:https://sortiesanantes.fr/event/th-festival-nouvel-orage/
LOCATION:Le Ferrailleur\, 21 quai des Antilles\, Nantes
CATEGORIES:FESTIVALS,MUSIQUE
ATTACH;FMTTYPE=image/jpeg:https://sortiesanantes.fr/wp-content/uploads/2026/04/FB_IMG_1776077401787.jpg
END:VEVENT
END:VCALENDAR