BEGIN:VCALENDAR
VERSION:2.0
PRODID:-//Sorties à Nantes - ECPv6.15.20//NONSGML v1.0//EN
CALSCALE:GREGORIAN
METHOD:PUBLISH
X-WR-CALNAME:Sorties à Nantes
X-ORIGINAL-URL:https://sortiesanantes.fr
X-WR-CALDESC:Évènements pour Sorties à Nantes
REFRESH-INTERVAL;VALUE=DURATION:PT1H
X-Robots-Tag:noindex
X-PUBLISHED-TTL:PT1H
BEGIN:VTIMEZONE
TZID:Europe/Paris
BEGIN:DAYLIGHT
TZOFFSETFROM:+0100
TZOFFSETTO:+0200
TZNAME:CEST
DTSTART:20250330T010000
END:DAYLIGHT
BEGIN:STANDARD
TZOFFSETFROM:+0200
TZOFFSETTO:+0100
TZNAME:CET
DTSTART:20251026T010000
END:STANDARD
BEGIN:DAYLIGHT
TZOFFSETFROM:+0100
TZOFFSETTO:+0200
TZNAME:CEST
DTSTART:20260329T010000
END:DAYLIGHT
BEGIN:STANDARD
TZOFFSETFROM:+0200
TZOFFSETTO:+0100
TZNAME:CET
DTSTART:20261025T010000
END:STANDARD
BEGIN:DAYLIGHT
TZOFFSETFROM:+0100
TZOFFSETTO:+0200
TZNAME:CEST
DTSTART:20270328T010000
END:DAYLIGHT
BEGIN:STANDARD
TZOFFSETFROM:+0200
TZOFFSETTO:+0100
TZNAME:CET
DTSTART:20271031T010000
END:STANDARD
END:VTIMEZONE
BEGIN:VEVENT
DTSTART;TZID=Europe/Paris:20260403T200000
DTEND;TZID=Europe/Paris:20260403T220000
DTSTAMP:20260420T112129
CREATED:20260401T005324Z
LAST-MODIFIED:20260403T002528Z
UID:64390-1775246400-1775253600@sortiesanantes.fr
SUMMARY:FESTIVAL CINÉMA ESPAGNOL
DESCRIPTION:A l’occasion de la 35e édition du festival du cinéma espagnol de Nantes\, venez profiter de films espagnols en séances délocalisées à La Chapelle-sur-Erdre. \nDécouvrez notre sélection : \nOLIVIA\, le dimanche 29 mars à 14 heures (à partir de 7/8 ans) – Version française \nPOLVO SERÁN\, le lundi 30 mars à 14 heures – Prix Jules Verne du meilleur film lors de l’édition 2025 du Festival du Cinéma Espagnol de Nantes (VOST) \nSALVE MARÍA\, le mercredi 1er avril à 18 heures – Prix Jules Verne de la meilleure réalisation + Prix du jury jeune lors de l’édition 2025 du Festival du Cinéma Espagnol de Nantes (VOST) \n🎤 LOS DOMINGOS (LES DIMANCHES)\, le vendredi 3 avril à 20 heures – Cette séance sera accompagnée d’une présentation du film par l’équipe du festival du cinéma espagnol (VOST) \nTarif unique : 6\,50 €.
URL:https://sortiesanantes.fr/event/festival-cinema-espagnol/
LOCATION:Cinéma Grand Écran\, 22 avenue des Perrières\, La Chapelle-sur Erdre
CATEGORIES:CINÉMA,FESTIVALS
ATTACH;FMTTYPE=image/jpeg:https://sortiesanantes.fr/wp-content/uploads/2026/04/FB_IMG_1775004359711.jpg
END:VEVENT
END:VCALENDAR