BEGIN:VCALENDAR
VERSION:2.0
PRODID:-//Sorties à Nantes - ECPv6.15.20//NONSGML v1.0//EN
CALSCALE:GREGORIAN
METHOD:PUBLISH
X-WR-CALNAME:Sorties à Nantes
X-ORIGINAL-URL:https://sortiesanantes.fr
X-WR-CALDESC:Évènements pour Sorties à Nantes
REFRESH-INTERVAL;VALUE=DURATION:PT1H
X-Robots-Tag:noindex
X-PUBLISHED-TTL:PT1H
BEGIN:VTIMEZONE
TZID:Europe/Paris
BEGIN:DAYLIGHT
TZOFFSETFROM:+0100
TZOFFSETTO:+0200
TZNAME:CEST
DTSTART:20250330T010000
END:DAYLIGHT
BEGIN:STANDARD
TZOFFSETFROM:+0200
TZOFFSETTO:+0100
TZNAME:CET
DTSTART:20251026T010000
END:STANDARD
BEGIN:DAYLIGHT
TZOFFSETFROM:+0100
TZOFFSETTO:+0200
TZNAME:CEST
DTSTART:20260329T010000
END:DAYLIGHT
BEGIN:STANDARD
TZOFFSETFROM:+0200
TZOFFSETTO:+0100
TZNAME:CET
DTSTART:20261025T010000
END:STANDARD
BEGIN:DAYLIGHT
TZOFFSETFROM:+0100
TZOFFSETTO:+0200
TZNAME:CEST
DTSTART:20270328T010000
END:DAYLIGHT
BEGIN:STANDARD
TZOFFSETFROM:+0200
TZOFFSETTO:+0100
TZNAME:CET
DTSTART:20271031T010000
END:STANDARD
END:VTIMEZONE
BEGIN:VEVENT
DTSTART;VALUE=DATE:20260421
DTEND;VALUE=DATE:20260429
DTSTAMP:20260422T155727
CREATED:20260401T011156Z
LAST-MODIFIED:20260420T204113Z
UID:64401-1776729600-1777420799@sortiesanantes.fr
SUMMARY:SUPER MARIO GALAXY
DESCRIPTION:Après SUPER MARIO BROS.\, l’adaptation cinématographique du célèbre jeu vidéo et forts du succès remporté dans le monde entier avec plus d’un milliard de dollars de recettes\, ILLUMINATION et NINTENDO se retrouvent une nouvelle fois\, afin de nous offrir un tout nouveau chapitre\, cette fois à dimension cosmique\, mais tout aussi bourré d’action : SUPER MARIO GALAXY. À peine installés au Royaume Champignon\, un mystérieux appel à l’aide va pousser Mario et Luigi à reprendre du service et plonger dans les zones d’ombre du passé de la princesse Peach. Une mission qui va propulser nos héros et leur nouvelle constellation d’amis\, très loin de chez eux\, à travers un périple intergalactique\, à la découverte de nouveaux mondes où se forgeront des alliances pour le moins inattendues. \nRéservez vite vos places : https://www.grandecran.fr/movies/327878-super-mario-galaxy-le-film/
URL:https://sortiesanantes.fr/event/64401/
LOCATION:Cinéma Grand Écran\, 22 avenue des Perrières\, La Chapelle-sur Erdre
CATEGORIES:CINÉMA,JEUNE PUBLIC
ATTACH;FMTTYPE=image/jpeg:https://sortiesanantes.fr/wp-content/uploads/2026/04/a4b09d89a977fc07692abdaa5f613037.jpg
END:VEVENT
END:VCALENDAR