BEGIN:VCALENDAR
VERSION:2.0
PRODID:-//Sorties à Nantes - ECPv6.15.20//NONSGML v1.0//EN
CALSCALE:GREGORIAN
METHOD:PUBLISH
X-ORIGINAL-URL:https://sortiesanantes.fr
X-WR-CALDESC:Évènements pour Sorties à Nantes
REFRESH-INTERVAL;VALUE=DURATION:PT1H
X-Robots-Tag:noindex
X-PUBLISHED-TTL:PT1H
BEGIN:VTIMEZONE
TZID:Europe/Paris
BEGIN:DAYLIGHT
TZOFFSETFROM:+0100
TZOFFSETTO:+0200
TZNAME:CEST
DTSTART:20250330T010000
END:DAYLIGHT
BEGIN:STANDARD
TZOFFSETFROM:+0200
TZOFFSETTO:+0100
TZNAME:CET
DTSTART:20251026T010000
END:STANDARD
BEGIN:DAYLIGHT
TZOFFSETFROM:+0100
TZOFFSETTO:+0200
TZNAME:CEST
DTSTART:20260329T010000
END:DAYLIGHT
BEGIN:STANDARD
TZOFFSETFROM:+0200
TZOFFSETTO:+0100
TZNAME:CET
DTSTART:20261025T010000
END:STANDARD
BEGIN:DAYLIGHT
TZOFFSETFROM:+0100
TZOFFSETTO:+0200
TZNAME:CEST
DTSTART:20270328T010000
END:DAYLIGHT
BEGIN:STANDARD
TZOFFSETFROM:+0200
TZOFFSETTO:+0100
TZNAME:CET
DTSTART:20271031T010000
END:STANDARD
END:VTIMEZONE
BEGIN:VEVENT
DTSTART;VALUE=DATE:20260417
DTEND;VALUE=DATE:20260422
DTSTAMP:20260420T142323
CREATED:20260406T162314Z
LAST-MODIFIED:20260417T081422Z
UID:64655-1776384000-1776815999@sortiesanantes.fr
SUMMARY:L'ENFANT DU DÉSERT
DESCRIPTION:Sun\, âgée de 14 ans\, a publié un livre inspiré d’une histoire que son grand-père lui racontait : l’incroyable histoire d’Hadara\, un enfant nomade perdu par sa famille à l’âge de 2 ans dans une tempête de sable dans le désert\, qui a ensuite été recueilli et élevé par un couple d’autruches. Mais lorsque Sun est invitée à visiter le Sahara\, elle se rend compte qu’Hadara est peut-être plus qu’une simple histoire pour s’endormir. \nRéservez vite vos places : https://www.grandecran.fr/movies/1000023671-lenfant-du-desert/
URL:https://sortiesanantes.fr/event/lenfant-du-desert/
LOCATION:Cinéma Grand Écran\, 22 avenue des Perrières\, La Chapelle-sur Erdre
CATEGORIES:CINÉMA,JEUNE PUBLIC
ATTACH;FMTTYPE=image/jpeg:https://sortiesanantes.fr/wp-content/uploads/2026/04/5775d41dba4a39b57a7a125f1246fc81.jpg
END:VEVENT
BEGIN:VEVENT
DTSTART;VALUE=DATE:20260417
DTEND;VALUE=DATE:20260422
DTSTAMP:20260420T142323
CREATED:20260406T161406Z
LAST-MODIFIED:20260417T081504Z
UID:64649-1776384000-1776815999@sortiesanantes.fr
SUMMARY:MARSUPILAMI
DESCRIPTION:Pour sauver son emploi\, David accepte un plan foireux : ramener un mystérieux colis d’Amérique du Sud. Il se retrouve à bord d’une croisière avec son ex Tess\, son fils Léo\, et son collègue Stéphane\, aussi benêt que maladroit\, dont David se sert pour transporter le colis à sa place. Tout dérape lorsque ce dernier l’ouvre accidentellement : un adorable bébé Marsupilami apparait et le voyage vire au chaos ! La bande à Fifi est de retour et elle s’est fait un nouveau copain… \nRéservez vite vos places : https://www.grandecran.fr/movies/317669-marsupilami
URL:https://sortiesanantes.fr/event/marsupilami/
LOCATION:Cinéma Grand Écran\, 22 avenue des Perrières\, La Chapelle-sur Erdre
CATEGORIES:CINÉMA,JEUNE PUBLIC
ATTACH;FMTTYPE=image/jpeg:https://sortiesanantes.fr/wp-content/uploads/2026/04/88a2c61b5b5e54483f284b6afeb02ccd.jpg
END:VEVENT
BEGIN:VEVENT
DTSTART;VALUE=DATE:20260417
DTEND;VALUE=DATE:20260420
DTSTAMP:20260420T142323
CREATED:20260331T111447Z
LAST-MODIFIED:20260417T081642Z
UID:64350-1776384000-1776643199@sortiesanantes.fr
SUMMARY:FÊTE FORAINE
DESCRIPTION:Fête foraine de printemps de Nantes 2026 \n📍 Cours Saint-Pierre\, Nantes \n📅 Du 28 mars au 19 avril 2026 \n🕒 Horaires : \nLundi au jeudi + dimanche : 14h00 à 23h00 \nVendredi et samedi : 14h00 à 1h00
URL:https://sortiesanantes.fr/event/fete-foraine-de-nantes/
CATEGORIES:JEUNE PUBLIC
ATTACH;FMTTYPE=image/jpeg:https://sortiesanantes.fr/wp-content/uploads/2026/03/VideoCapture_20260331-131039.jpg
END:VEVENT
BEGIN:VEVENT
DTSTART;VALUE=DATE:20260417
DTEND;VALUE=DATE:20260422
DTSTAMP:20260420T142323
CREATED:20260401T011156Z
LAST-MODIFIED:20260417T081846Z
UID:64401-1776384000-1776815999@sortiesanantes.fr
SUMMARY:SUPER MARIO GALAXY
DESCRIPTION:Après SUPER MARIO BROS.\, l’adaptation cinématographique du célèbre jeu vidéo et forts du succès remporté dans le monde entier avec plus d’un milliard de dollars de recettes\, ILLUMINATION et NINTENDO se retrouvent une nouvelle fois\, afin de nous offrir un tout nouveau chapitre\, cette fois à dimension cosmique\, mais tout aussi bourré d’action : SUPER MARIO GALAXY. À peine installés au Royaume Champignon\, un mystérieux appel à l’aide va pousser Mario et Luigi à reprendre du service et plonger dans les zones d’ombre du passé de la princesse Peach. Une mission qui va propulser nos héros et leur nouvelle constellation d’amis\, très loin de chez eux\, à travers un périple intergalactique\, à la découverte de nouveaux mondes où se forgeront des alliances pour le moins inattendues. \nRéservez vite vos places : https://www.grandecran.fr/movies/327878-super-mario-galaxy-le-film/
URL:https://sortiesanantes.fr/event/64401/
LOCATION:Cinéma Grand Écran\, 22 avenue des Perrières\, La Chapelle-sur Erdre
CATEGORIES:CINÉMA,JEUNE PUBLIC
ATTACH;FMTTYPE=image/jpeg:https://sortiesanantes.fr/wp-content/uploads/2026/04/a4b09d89a977fc07692abdaa5f613037.jpg
END:VEVENT
BEGIN:VEVENT
DTSTART;TZID=Europe/Paris:20260417T110000
DTEND;TZID=Europe/Paris:20260420T134500
DTSTAMP:20260420T142323
CREATED:20260406T160935Z
LAST-MODIFIED:20260417T082233Z
UID:64643-1776423600-1776692700@sortiesanantes.fr
SUMMARY:JUMPERS
DESCRIPTION:Mabel\, une adolescente passionnée par les animaux\, saute (littéralement !) sur l’occasion d’essayer une nouvelle technologie révolutionnaire permettant de communiquer avec eux d’une manière totalement inédite… en se glissant dans la peau d’une adorable femelle castor. Conçu par des scientifiques visionnaires\, ce dispositif permet de transférer la conscience humaine dans le corps de robots-animaux plus vrais que nature. Mabel se lance alors dans une aventure unique et riche en découvertes au cœur du règne animal. \nRéservez vite vos places : https://www.grandecran.fr/movies/1000009065-jumpers
URL:https://sortiesanantes.fr/event/jumpers/
LOCATION:Cinéma Grand Écran\, 22 avenue des Perrières\, La Chapelle-sur Erdre
CATEGORIES:CINÉMA,JEUNE PUBLIC
ATTACH;FMTTYPE=image/jpeg:https://sortiesanantes.fr/wp-content/uploads/2026/04/c9946bdc5ddab7d74b340b46e6030467.jpg
END:VEVENT
BEGIN:VEVENT
DTSTART;TZID=Europe/Paris:20260417T203000
DTEND;TZID=Europe/Paris:20260418T215000
DTSTAMP:20260420T142323
CREATED:20260413T092622Z
LAST-MODIFIED:20260417T082647Z
UID:64908-1776457800-1776549000@sortiesanantes.fr
SUMMARY:ANTOINE LEROUX MAGIC
DESCRIPTION:Retrouvez sur scène le magicien Antoine Leroux dans son spectacle «MAGIC»\, un show familial mêlant magie mentalisme et humour. \nRévélé par l’émission « vendredi tout est permis » sur TF1 où il intervient régulièrement\, embarquez avec Antoine pour un voyage temporel où vos choix et  la magie des coincidences vous mèneront à destination. \nDurée : entre 1h10 et 1h20 \nRéservez vite vos places ici 🎟 \n 
URL:https://sortiesanantes.fr/event/antoine-leroux-magic/
LOCATION:La Compagnie du Café Théâtre\, 6 rue des Carmélites\, Nantes
CATEGORIES:JEUNE PUBLIC,SPECTACLES
ATTACH;FMTTYPE=image/jpeg:https://sortiesanantes.fr/wp-content/uploads/2026/04/Affiche-Antoine-Leroux-1.jpg
END:VEVENT
BEGIN:VEVENT
DTSTART;TZID=Europe/Paris:20260418T100000
DTEND;TZID=Europe/Paris:20260419T180000
DTSTAMP:20260420T142323
CREATED:20260413T153011Z
LAST-MODIFIED:20260413T153011Z
UID:65036-1776506400-1776621600@sortiesanantes.fr
SUMMARY:L’EXPOSITION DINOSAURES
DESCRIPTION:🦖 L’Exposition Dinosaures arrive à NANTES ! 🎉 \nUne aventure spectaculaire à vivre en famille : dinosaures géants\, bébés dinos et immersion préhistorique 🦕 \n🌋 Remontez le temps et partez à la rencontre des géants de la préhistoire !\nL’Exposition Dinosaures s’installe à NANTES pour une expérience unique\, ludique et immersive à partager avec vos enfants ❤️ \n🦖 Au programme :\n• Dinosaures géants plus vrais que nature\n• Bébés dinos adorables\n• Décors immersifs & animations interactives\n• Une sortie éducative et amusante pour petits et grands \n📍 Lieu : Parc des Expositions\n📅 Dates : du 18 au 19 Avril 2026 \n💚 Tarifs :\n• 12€ adulte\n• 10€ à partir de 3 ans\n• Gratuit pour les -3 ans \n🎟️ Billets disponibles en ligne et sur place\n👉 Aucune réservation obligatoire\n🎁 Idée cadeau parfaite pour les enfants et les familles\n⚠️ Événement temporaire : les dinosaures repartent après\n! \n👉 Venez vivre une aventure inoubliable au cœur de la préhistoire 🦕
URL:https://sortiesanantes.fr/event/lexposition-dinosaures/
LOCATION:Exponantes\, parc des expositions\, Nantes
CATEGORIES:EXPOSITIONS,JEUNE PUBLIC
ATTACH;FMTTYPE=image/jpeg:https://sortiesanantes.fr/wp-content/uploads/2026/04/FB_IMG_1776094051565.jpg
END:VEVENT
BEGIN:VEVENT
DTSTART;TZID=Europe/Paris:20260418T100000
DTEND;TZID=Europe/Paris:20260419T220000
DTSTAMP:20260420T142323
CREATED:20260413T182927Z
LAST-MODIFIED:20260413T182945Z
UID:65124-1776506400-1776636000@sortiesanantes.fr
SUMMARY:JAPANANTES
DESCRIPTION:Japanantes\, c’est un festival dédié à la culture japonaise\, mêlant traditions\, pop culture\, jeux vidéo\, cosplay et bien plus encore. Des exposants seront présents pour mettre en avant leurs créations et différentes animations seront proposées tout le week-end dans les salles. \nPlus d’infos sur https://www.japanantes.com \n \n 
URL:https://sortiesanantes.fr/event/japanantes/
CATEGORIES:EXPOSITIONS,JEUNE PUBLIC
ATTACH;FMTTYPE=image/jpeg:https://sortiesanantes.fr/wp-content/uploads/2026/04/20260413_202517.jpg
END:VEVENT
BEGIN:VEVENT
DTSTART;TZID=Europe/Paris:20260418T210000
DTEND;TZID=Europe/Paris:20260418T220000
DTSTAMP:20260420T142323
CREATED:20260413T153343Z
LAST-MODIFIED:20260413T165451Z
UID:65039-1776546000-1776549600@sortiesanantes.fr
SUMMARY:CARNAVAL - DÉFILÉ DE NUIT
DESCRIPTION:Cette année le Carnaval de Nantes célèbre la « littérature ». \nAu programme : 15 chars et un groupe de grosses têtes inspirés du thème accompagnés de groupes de musique et de danse. \nItinéraire du défilé : départ Place Foch\, Rue Sully\, Quai Ceineray\, Port Communeau\, Place Lenôtre\, Cours des 50 Otages\, Rue de la Mairie\, Rue de l’Évêché\, et retour Place Foch. \nPlus d’infos
URL:https://sortiesanantes.fr/event/carnaval-defile-de-nuit/
CATEGORIES:GRATUIT,JEUNE PUBLIC,SPECTACLES
ATTACH;FMTTYPE=image/jpeg:https://sortiesanantes.fr/wp-content/uploads/2026/04/FB_IMG_1776094255662.jpg
END:VEVENT
END:VCALENDAR