BEGIN:VCALENDAR
VERSION:2.0
PRODID:-//Sorties à Nantes - ECPv6.15.20//NONSGML v1.0//EN
CALSCALE:GREGORIAN
METHOD:PUBLISH
X-ORIGINAL-URL:https://sortiesanantes.fr
X-WR-CALDESC:Évènements pour Sorties à Nantes
REFRESH-INTERVAL;VALUE=DURATION:PT1H
X-Robots-Tag:noindex
X-PUBLISHED-TTL:PT1H
BEGIN:VTIMEZONE
TZID:Europe/Paris
BEGIN:DAYLIGHT
TZOFFSETFROM:+0100
TZOFFSETTO:+0200
TZNAME:CEST
DTSTART:20250330T010000
END:DAYLIGHT
BEGIN:STANDARD
TZOFFSETFROM:+0200
TZOFFSETTO:+0100
TZNAME:CET
DTSTART:20251026T010000
END:STANDARD
BEGIN:DAYLIGHT
TZOFFSETFROM:+0100
TZOFFSETTO:+0200
TZNAME:CEST
DTSTART:20260329T010000
END:DAYLIGHT
BEGIN:STANDARD
TZOFFSETFROM:+0200
TZOFFSETTO:+0100
TZNAME:CET
DTSTART:20261025T010000
END:STANDARD
BEGIN:DAYLIGHT
TZOFFSETFROM:+0100
TZOFFSETTO:+0200
TZNAME:CEST
DTSTART:20270328T010000
END:DAYLIGHT
BEGIN:STANDARD
TZOFFSETFROM:+0200
TZOFFSETTO:+0100
TZNAME:CET
DTSTART:20271031T010000
END:STANDARD
END:VTIMEZONE
BEGIN:VEVENT
DTSTART;TZID=Europe/Paris:20260328T200000
DTEND;TZID=Europe/Paris:20260329T160000
DTSTAMP:20260424T155130
CREATED:20260323T141258Z
LAST-MODIFIED:20260323T141258Z
UID:64160-1774728000-1774800000@sortiesanantes.fr
SUMMARY:L'OISEAU DE FEU
DESCRIPTION:Béjart et nous est un voyage à travers le répertoire dansé (et musical) de Maurice Béjart composé de solos\, pas de deux et ensemble extraits de différents ballets tels que Wien\, Wien\, nur du Allein\, La IXe Symphonie\, Mozart-Tango\, Brel et Barbara etc… Une proposition artistique sensible de Julien Favreau\, une immersion au cœur de l’œuvre éclectique et foisonnante du Maître interprétée par les danseuses et danseurs de sa compagnie d’aujourd’hui. \nL’Oiseau de Feu évoque la renaissance et la splendeur du Phénix\, sur une musique puissante d’Igor Stravinsky. À travers cette œuvre\, Béjart souligne à la fois la richesse de la culture russe et une rupture avec les traditions\, apportant une nouvelle vision à la chorégraphie. \nRéservez vite vos places ici 🎟 
URL:https://sortiesanantes.fr/event/loiseau-de-feu/
LOCATION:Zénith\, boulevard du Zénith\, Saint Herblain
CATEGORIES:DANSE
ATTACH;FMTTYPE=image/jpeg:https://sortiesanantes.fr/wp-content/uploads/2026/03/loiseau-de-feu-bbl-admill-kuyler-111123-zurich-435-1200x800-1.jpg
END:VEVENT
END:VCALENDAR