BEGIN:VCALENDAR
VERSION:2.0
PRODID:-//Sorties à Nantes - ECPv6.15.20//NONSGML v1.0//EN
CALSCALE:GREGORIAN
METHOD:PUBLISH
X-ORIGINAL-URL:https://sortiesanantes.fr
X-WR-CALDESC:Évènements pour Sorties à Nantes
REFRESH-INTERVAL;VALUE=DURATION:PT1H
X-Robots-Tag:noindex
X-PUBLISHED-TTL:PT1H
BEGIN:VTIMEZONE
TZID:Europe/Paris
BEGIN:DAYLIGHT
TZOFFSETFROM:+0100
TZOFFSETTO:+0200
TZNAME:CEST
DTSTART:20250330T010000
END:DAYLIGHT
BEGIN:STANDARD
TZOFFSETFROM:+0200
TZOFFSETTO:+0100
TZNAME:CET
DTSTART:20251026T010000
END:STANDARD
BEGIN:DAYLIGHT
TZOFFSETFROM:+0100
TZOFFSETTO:+0200
TZNAME:CEST
DTSTART:20260329T010000
END:DAYLIGHT
BEGIN:STANDARD
TZOFFSETFROM:+0200
TZOFFSETTO:+0100
TZNAME:CET
DTSTART:20261025T010000
END:STANDARD
BEGIN:DAYLIGHT
TZOFFSETFROM:+0100
TZOFFSETTO:+0200
TZNAME:CEST
DTSTART:20270328T010000
END:DAYLIGHT
BEGIN:STANDARD
TZOFFSETFROM:+0200
TZOFFSETTO:+0100
TZNAME:CET
DTSTART:20271031T010000
END:STANDARD
END:VTIMEZONE
BEGIN:VEVENT
DTSTART;VALUE=DATE:20260417
DTEND;VALUE=DATE:20260422
DTSTAMP:20260420T100010
CREATED:20260406T162314Z
LAST-MODIFIED:20260417T081422Z
UID:64655-1776384000-1776815999@sortiesanantes.fr
SUMMARY:L'ENFANT DU DÉSERT
DESCRIPTION:Sun\, âgée de 14 ans\, a publié un livre inspiré d’une histoire que son grand-père lui racontait : l’incroyable histoire d’Hadara\, un enfant nomade perdu par sa famille à l’âge de 2 ans dans une tempête de sable dans le désert\, qui a ensuite été recueilli et élevé par un couple d’autruches. Mais lorsque Sun est invitée à visiter le Sahara\, elle se rend compte qu’Hadara est peut-être plus qu’une simple histoire pour s’endormir. \nRéservez vite vos places : https://www.grandecran.fr/movies/1000023671-lenfant-du-desert/
URL:https://sortiesanantes.fr/event/lenfant-du-desert/
LOCATION:Cinéma Grand Écran\, 22 avenue des Perrières\, La Chapelle-sur Erdre
CATEGORIES:CINÉMA,JEUNE PUBLIC
ATTACH;FMTTYPE=image/jpeg:https://sortiesanantes.fr/wp-content/uploads/2026/04/5775d41dba4a39b57a7a125f1246fc81.jpg
END:VEVENT
BEGIN:VEVENT
DTSTART;VALUE=DATE:20260417
DTEND;VALUE=DATE:20260422
DTSTAMP:20260420T100010
CREATED:20260406T161406Z
LAST-MODIFIED:20260417T081504Z
UID:64649-1776384000-1776815999@sortiesanantes.fr
SUMMARY:MARSUPILAMI
DESCRIPTION:Pour sauver son emploi\, David accepte un plan foireux : ramener un mystérieux colis d’Amérique du Sud. Il se retrouve à bord d’une croisière avec son ex Tess\, son fils Léo\, et son collègue Stéphane\, aussi benêt que maladroit\, dont David se sert pour transporter le colis à sa place. Tout dérape lorsque ce dernier l’ouvre accidentellement : un adorable bébé Marsupilami apparait et le voyage vire au chaos ! La bande à Fifi est de retour et elle s’est fait un nouveau copain… \nRéservez vite vos places : https://www.grandecran.fr/movies/317669-marsupilami
URL:https://sortiesanantes.fr/event/marsupilami/
LOCATION:Cinéma Grand Écran\, 22 avenue des Perrières\, La Chapelle-sur Erdre
CATEGORIES:CINÉMA,JEUNE PUBLIC
ATTACH;FMTTYPE=image/jpeg:https://sortiesanantes.fr/wp-content/uploads/2026/04/88a2c61b5b5e54483f284b6afeb02ccd.jpg
END:VEVENT
BEGIN:VEVENT
DTSTART;VALUE=DATE:20260417
DTEND;VALUE=DATE:20260422
DTSTAMP:20260420T100010
CREATED:20260401T014229Z
LAST-MODIFIED:20260417T081724Z
UID:64418-1776384000-1776815999@sortiesanantes.fr
SUMMARY:COMPOSTELLE
DESCRIPTION:Fred et Adam\, un adolescent en rupture\, ne se connaissent pas. Pourtant\, grâce à une association\, ils entreprennent ensemble le pèlerinage de Saint-Jacques-de-Compostelle. Elle cherche à apaiser son passé\, il tente de canaliser sa colère et son sentiment d’abandon. Au fil des kilomètres\, entre affrontements et instants suspendus\, un lien fragile se tisse. Face aux épreuves du chemin\, chacun découvre en lui une force insoupçonnée. Inspiré d’une histoire vraie. \nRéservez vite vos places ici 🎟 
URL:https://sortiesanantes.fr/event/compostelle/
LOCATION:Cinéma Grand Écran\, 22 avenue des Perrières\, La Chapelle-sur Erdre
CATEGORIES:CINÉMA
ATTACH;FMTTYPE=image/jpeg:https://sortiesanantes.fr/wp-content/uploads/2026/04/e7ae71d9dd7de9b4865135ee942f2c0f.jpg
END:VEVENT
BEGIN:VEVENT
DTSTART;VALUE=DATE:20260417
DTEND;VALUE=DATE:20260422
DTSTAMP:20260420T100010
CREATED:20260406T160035Z
LAST-MODIFIED:20260417T081806Z
UID:64637-1776384000-1776815999@sortiesanantes.fr
SUMMARY:LES RAYONS ET LES OMBRES
DESCRIPTION:Pendant la Deuxième Guerre mondiale\, l’histoire vraie de Jean et Corinne Luchaire\, un père et sa fille pris dans l’engrenage de la collaboration. \nRéservez vite vos places : https://www.grandecran.fr/movies/1000007343-les-rayons-et-les-ombres
URL:https://sortiesanantes.fr/event/les-rayons-et-les-ombres/
LOCATION:Cinéma Grand Écran\, 22 avenue des Perrières\, La Chapelle-sur Erdre
CATEGORIES:CINÉMA
ATTACH;FMTTYPE=image/jpeg:https://sortiesanantes.fr/wp-content/uploads/2026/04/bd160b9e3636740450304ec44eb42d35.jpg
END:VEVENT
BEGIN:VEVENT
DTSTART;VALUE=DATE:20260417
DTEND;VALUE=DATE:20260422
DTSTAMP:20260420T100010
CREATED:20260401T011156Z
LAST-MODIFIED:20260417T081846Z
UID:64401-1776384000-1776815999@sortiesanantes.fr
SUMMARY:SUPER MARIO GALAXY
DESCRIPTION:Après SUPER MARIO BROS.\, l’adaptation cinématographique du célèbre jeu vidéo et forts du succès remporté dans le monde entier avec plus d’un milliard de dollars de recettes\, ILLUMINATION et NINTENDO se retrouvent une nouvelle fois\, afin de nous offrir un tout nouveau chapitre\, cette fois à dimension cosmique\, mais tout aussi bourré d’action : SUPER MARIO GALAXY. À peine installés au Royaume Champignon\, un mystérieux appel à l’aide va pousser Mario et Luigi à reprendre du service et plonger dans les zones d’ombre du passé de la princesse Peach. Une mission qui va propulser nos héros et leur nouvelle constellation d’amis\, très loin de chez eux\, à travers un périple intergalactique\, à la découverte de nouveaux mondes où se forgeront des alliances pour le moins inattendues. \nRéservez vite vos places : https://www.grandecran.fr/movies/327878-super-mario-galaxy-le-film/
URL:https://sortiesanantes.fr/event/64401/
LOCATION:Cinéma Grand Écran\, 22 avenue des Perrières\, La Chapelle-sur Erdre
CATEGORIES:CINÉMA,JEUNE PUBLIC
ATTACH;FMTTYPE=image/jpeg:https://sortiesanantes.fr/wp-content/uploads/2026/04/a4b09d89a977fc07692abdaa5f613037.jpg
END:VEVENT
BEGIN:VEVENT
DTSTART;VALUE=DATE:20260417
DTEND;VALUE=DATE:20260422
DTSTAMP:20260420T100010
CREATED:20260406T164826Z
LAST-MODIFIED:20260417T081956Z
UID:64670-1776384000-1776815999@sortiesanantes.fr
SUMMARY:COCORICO 2
DESCRIPTION:Après avoir découvert la vérité sur leurs origines\, grâce à des tests ADN aux résultats pour le moins surprenants\, les Bouvier-Sauvage et les Martin décident d’enterrer la hache de guerre\, pour organiser le mariage de leurs enfants. Mais c’était sans compter sur un imprévu de taille : un cousin de Frédéric a été retrouvé grâce aux tests… Révélant que les résultats étaient erronés. Les deux familles vont découvrir que leurs ancêtres n’ont pas fini de les surprendre ! \nRéservez vite vos places : https://www.grandecran.fr/movies/1000012412-cocorico-2
URL:https://sortiesanantes.fr/event/cocorico-2/
LOCATION:Cinéma Grand Écran\, 22 avenue des Perrières\, La Chapelle-sur Erdre
CATEGORIES:CINÉMA
ATTACH;FMTTYPE=image/jpeg:https://sortiesanantes.fr/wp-content/uploads/2026/04/9ba89da2856adb8cc5c92b1a28d3971b.jpg
END:VEVENT
BEGIN:VEVENT
DTSTART;VALUE=DATE:20260417
DTEND;VALUE=DATE:20260422
DTSTAMP:20260420T100010
CREATED:20260406T155120Z
LAST-MODIFIED:20260417T082049Z
UID:64630-1776384000-1776815999@sortiesanantes.fr
SUMMARY:MAUVAISE PIOCHE
DESCRIPTION:​Arrêté par erreur et confondu avec l’homme le plus recherché de France\, Serge Martin\, paisible retraité\, devient la cible des médias. Pris dans un tourbillon sans fin\, il va tout tenter pour prouver son innocence et retrouver sa vie… si c’est encore possible ! \nRéservez vite vos places : https://www.grandecran.fr/movies/1000020594-mauvaise-pioche
URL:https://sortiesanantes.fr/event/mauvaise-pioche/
LOCATION:Cinéma Grand Écran\, 22 avenue des Perrières\, La Chapelle-sur Erdre
CATEGORIES:CINÉMA
ATTACH;FMTTYPE=image/jpeg:https://sortiesanantes.fr/wp-content/uploads/2026/04/79f9dea59ce3ae05d0e777b3a514f417.jpg
END:VEVENT
BEGIN:VEVENT
DTSTART;VALUE=DATE:20260417
DTEND;VALUE=DATE:20260422
DTSTAMP:20260420T100010
CREATED:20260401T013255Z
LAST-MODIFIED:20260417T082751Z
UID:64415-1776384000-1776815999@sortiesanantes.fr
SUMMARY:PROJET DERNIÈRE CHANCE
DESCRIPTION:Ryland Grace\, professeur de sciences\, se réveille seul à bord d’un vaisseau spatial\, à des années-lumière de la Terre\, sans aucun souvenir de son identité ni des raisons de sa présence à bord. Peu à peu\, sa mémoire lui revient\, et il comprend l’enjeu de sa mission : résoudre l’énigme de la mystérieuse substance qui cause l’extinction du Soleil. Pour tenter de sauver l’humanité\, il va devoir faire appel à ses connaissances scientifiques et à des idées peu conventionnelles … Mais une amitié inattendue pourrait bien l’aider à ne pas affronter cette mission tout seul. \nRéservez vite vos places ici 🎟 
URL:https://sortiesanantes.fr/event/projet-derniere-chance/
LOCATION:Cinéma Grand Écran\, 22 avenue des Perrières\, La Chapelle-sur Erdre
CATEGORIES:CINÉMA
ATTACH;FMTTYPE=image/jpeg:https://sortiesanantes.fr/wp-content/uploads/2026/04/pROJET-DERNIERE-CHANCE-6-1.jpg
END:VEVENT
END:VCALENDAR