BEGIN:VCALENDAR
VERSION:2.0
PRODID:-//Sorties à Nantes - ECPv6.15.20//NONSGML v1.0//EN
CALSCALE:GREGORIAN
METHOD:PUBLISH
X-ORIGINAL-URL:https://sortiesanantes.fr
X-WR-CALDESC:Évènements pour Sorties à Nantes
REFRESH-INTERVAL;VALUE=DURATION:PT1H
X-Robots-Tag:noindex
X-PUBLISHED-TTL:PT1H
BEGIN:VTIMEZONE
TZID:Europe/Paris
BEGIN:DAYLIGHT
TZOFFSETFROM:+0100
TZOFFSETTO:+0200
TZNAME:CEST
DTSTART:20250330T010000
END:DAYLIGHT
BEGIN:STANDARD
TZOFFSETFROM:+0200
TZOFFSETTO:+0100
TZNAME:CET
DTSTART:20251026T010000
END:STANDARD
BEGIN:DAYLIGHT
TZOFFSETFROM:+0100
TZOFFSETTO:+0200
TZNAME:CEST
DTSTART:20260329T010000
END:DAYLIGHT
BEGIN:STANDARD
TZOFFSETFROM:+0200
TZOFFSETTO:+0100
TZNAME:CET
DTSTART:20261025T010000
END:STANDARD
BEGIN:DAYLIGHT
TZOFFSETFROM:+0100
TZOFFSETTO:+0200
TZNAME:CEST
DTSTART:20270328T010000
END:DAYLIGHT
BEGIN:STANDARD
TZOFFSETFROM:+0200
TZOFFSETTO:+0100
TZNAME:CET
DTSTART:20271031T010000
END:STANDARD
END:VTIMEZONE
BEGIN:VEVENT
DTSTART;VALUE=DATE:20260421
DTEND;VALUE=DATE:20260427
DTSTAMP:20260422T125930
CREATED:20260406T162314Z
LAST-MODIFIED:20260420T203515Z
UID:64655-1776729600-1777247999@sortiesanantes.fr
SUMMARY:L'ENFANT DU DÉSERT
DESCRIPTION:Sun\, âgée de 14 ans\, a publié un livre inspiré d’une histoire que son grand-père lui racontait : l’incroyable histoire d’Hadara\, un enfant nomade perdu par sa famille à l’âge de 2 ans dans une tempête de sable dans le désert\, qui a ensuite été recueilli et élevé par un couple d’autruches. Mais lorsque Sun est invitée à visiter le Sahara\, elle se rend compte qu’Hadara est peut-être plus qu’une simple histoire pour s’endormir. \nRéservez vite vos places : https://www.grandecran.fr/movies/1000023671-lenfant-du-desert/
URL:https://sortiesanantes.fr/event/lenfant-du-desert/
LOCATION:Cinéma Grand Écran\, 22 avenue des Perrières\, La Chapelle-sur Erdre
CATEGORIES:CINÉMA,JEUNE PUBLIC
ATTACH;FMTTYPE=image/jpeg:https://sortiesanantes.fr/wp-content/uploads/2026/04/5775d41dba4a39b57a7a125f1246fc81.jpg
END:VEVENT
BEGIN:VEVENT
DTSTART;VALUE=DATE:20260421
DTEND;VALUE=DATE:20260427
DTSTAMP:20260422T125930
CREATED:20260406T161406Z
LAST-MODIFIED:20260420T203641Z
UID:64649-1776729600-1777247999@sortiesanantes.fr
SUMMARY:MARSUPILAMI
DESCRIPTION:Pour sauver son emploi\, David accepte un plan foireux : ramener un mystérieux colis d’Amérique du Sud. Il se retrouve à bord d’une croisière avec son ex Tess\, son fils Léo\, et son collègue Stéphane\, aussi benêt que maladroit\, dont David se sert pour transporter le colis à sa place. Tout dérape lorsque ce dernier l’ouvre accidentellement : un adorable bébé Marsupilami apparait et le voyage vire au chaos ! La bande à Fifi est de retour et elle s’est fait un nouveau copain… \nRéservez vite vos places : https://www.grandecran.fr/movies/317669-marsupilami
URL:https://sortiesanantes.fr/event/marsupilami/
LOCATION:Cinéma Grand Écran\, 22 avenue des Perrières\, La Chapelle-sur Erdre
CATEGORIES:CINÉMA,JEUNE PUBLIC
ATTACH;FMTTYPE=image/jpeg:https://sortiesanantes.fr/wp-content/uploads/2026/04/88a2c61b5b5e54483f284b6afeb02ccd.jpg
END:VEVENT
BEGIN:VEVENT
DTSTART;VALUE=DATE:20260421
DTEND;VALUE=DATE:20260428
DTSTAMP:20260422T125930
CREATED:20260406T160035Z
LAST-MODIFIED:20260420T204005Z
UID:64637-1776729600-1777334399@sortiesanantes.fr
SUMMARY:LES RAYONS ET LES OMBRES
DESCRIPTION:Pendant la Deuxième Guerre mondiale\, l’histoire vraie de Jean et Corinne Luchaire\, un père et sa fille pris dans l’engrenage de la collaboration. \nRéservez vite vos places : https://www.grandecran.fr/movies/1000007343-les-rayons-et-les-ombres
URL:https://sortiesanantes.fr/event/les-rayons-et-les-ombres/
LOCATION:Cinéma Grand Écran\, 22 avenue des Perrières\, La Chapelle-sur Erdre
CATEGORIES:CINÉMA
ATTACH;FMTTYPE=image/jpeg:https://sortiesanantes.fr/wp-content/uploads/2026/04/bd160b9e3636740450304ec44eb42d35.jpg
END:VEVENT
BEGIN:VEVENT
DTSTART;VALUE=DATE:20260421
DTEND;VALUE=DATE:20260422
DTSTAMP:20260422T125930
CREATED:20260401T013255Z
LAST-MODIFIED:20260420T204456Z
UID:64415-1776729600-1776815999@sortiesanantes.fr
SUMMARY:PROJET DERNIÈRE CHANCE
DESCRIPTION:Ryland Grace\, professeur de sciences\, se réveille seul à bord d’un vaisseau spatial\, à des années-lumière de la Terre\, sans aucun souvenir de son identité ni des raisons de sa présence à bord. Peu à peu\, sa mémoire lui revient\, et il comprend l’enjeu de sa mission : résoudre l’énigme de la mystérieuse substance qui cause l’extinction du Soleil. Pour tenter de sauver l’humanité\, il va devoir faire appel à ses connaissances scientifiques et à des idées peu conventionnelles … Mais une amitié inattendue pourrait bien l’aider à ne pas affronter cette mission tout seul. \nRéservez vite vos places ici 🎟 
URL:https://sortiesanantes.fr/event/projet-derniere-chance/
LOCATION:Cinéma Grand Écran\, 22 avenue des Perrières\, La Chapelle-sur Erdre
CATEGORIES:CINÉMA
ATTACH;FMTTYPE=image/jpeg:https://sortiesanantes.fr/wp-content/uploads/2026/04/pROJET-DERNIERE-CHANCE-6-1.jpg
END:VEVENT
BEGIN:VEVENT
DTSTART;TZID=Europe/Paris:20260417T110000
DTEND;TZID=Europe/Paris:20260420T134500
DTSTAMP:20260422T125930
CREATED:20260406T160935Z
LAST-MODIFIED:20260417T082233Z
UID:64643-1776423600-1776692700@sortiesanantes.fr
SUMMARY:JUMPERS
DESCRIPTION:Mabel\, une adolescente passionnée par les animaux\, saute (littéralement !) sur l’occasion d’essayer une nouvelle technologie révolutionnaire permettant de communiquer avec eux d’une manière totalement inédite… en se glissant dans la peau d’une adorable femelle castor. Conçu par des scientifiques visionnaires\, ce dispositif permet de transférer la conscience humaine dans le corps de robots-animaux plus vrais que nature. Mabel se lance alors dans une aventure unique et riche en découvertes au cœur du règne animal. \nRéservez vite vos places : https://www.grandecran.fr/movies/1000009065-jumpers
URL:https://sortiesanantes.fr/event/jumpers/
LOCATION:Cinéma Grand Écran\, 22 avenue des Perrières\, La Chapelle-sur Erdre
CATEGORIES:CINÉMA,JEUNE PUBLIC
ATTACH;FMTTYPE=image/jpeg:https://sortiesanantes.fr/wp-content/uploads/2026/04/c9946bdc5ddab7d74b340b46e6030467.jpg
END:VEVENT
END:VCALENDAR